BEGIN:VCALENDAR
VERSION:2.0
PRODID:-//Oxford City Athletic Club - ECPv6.15.20//NONSGML v1.0//EN
CALSCALE:GREGORIAN
METHOD:PUBLISH
X-WR-CALNAME:Oxford City Athletic Club
X-ORIGINAL-URL:https://oxfordcityac.com
X-WR-CALDESC:Events for Oxford City Athletic Club
REFRESH-INTERVAL;VALUE=DURATION:PT1H
X-Robots-Tag:noindex
X-PUBLISHED-TTL:PT1H
BEGIN:VTIMEZONE
TZID:Europe/London
BEGIN:DAYLIGHT
TZOFFSETFROM:+0000
TZOFFSETTO:+0100
TZNAME:BST
DTSTART:20250330T010000
END:DAYLIGHT
BEGIN:STANDARD
TZOFFSETFROM:+0100
TZOFFSETTO:+0000
TZNAME:GMT
DTSTART:20251026T010000
END:STANDARD
BEGIN:DAYLIGHT
TZOFFSETFROM:+0000
TZOFFSETTO:+0100
TZNAME:BST
DTSTART:20260329T010000
END:DAYLIGHT
BEGIN:STANDARD
TZOFFSETFROM:+0100
TZOFFSETTO:+0000
TZNAME:GMT
DTSTART:20261025T010000
END:STANDARD
BEGIN:DAYLIGHT
TZOFFSETFROM:+0000
TZOFFSETTO:+0100
TZNAME:BST
DTSTART:20270328T010000
END:DAYLIGHT
BEGIN:STANDARD
TZOFFSETFROM:+0100
TZOFFSETTO:+0000
TZNAME:GMT
DTSTART:20271031T010000
END:STANDARD
BEGIN:DAYLIGHT
TZOFFSETFROM:+0000
TZOFFSETTO:+0100
TZNAME:BST
DTSTART:20280326T010000
END:DAYLIGHT
BEGIN:STANDARD
TZOFFSETFROM:+0100
TZOFFSETTO:+0000
TZNAME:GMT
DTSTART:20281029T010000
END:STANDARD
END:VTIMEZONE
BEGIN:VEVENT
DTSTART;TZID=Europe/London:20261009T093000
DTEND;TZID=Europe/London:20261009T130000
DTSTAMP:20260423T110457
CREATED:20260131T104113Z
LAST-MODIFIED:20260320T144600Z
UID:8903-1791538200-1791550800@oxfordcityac.com
SUMMARY:CyclAbility - Oxford
DESCRIPTION:We provide inclusive\, adult (16+) cycling facilities in a safe and supportive environment in Oxford. We have qualified cycling instructors to help you get started; adaptive cycling experts to give advice; mechanics to troubleshoot issues and amazing volunteers to support you.
URL:https://oxfordcityac.com/event/cyclability-oxford-85/
LOCATION:Horspath Athletics Track\, Horspath Athletics Track\, Oxford\, Oxfordshire\, OX4 2RR\, United Kingdom
CATEGORIES:External Booking
END:VEVENT
BEGIN:VEVENT
DTSTART;TZID=Europe/London:20261013T093000
DTEND;TZID=Europe/London:20261013T120000
DTSTAMP:20260423T110457
CREATED:20260131T103432Z
LAST-MODIFIED:20260320T144819Z
UID:8857-1791883800-1791892800@oxfordcityac.com
SUMMARY:CyclAbility - Oxford
DESCRIPTION:We provide inclusive\, adult (16+) cycling facilities in a safe and supportive environment in Oxford. We have qualified cycling instructors to help you get started; adaptive cycling experts to give advice; mechanics to troubleshoot issues and amazing volunteers to support you.
URL:https://oxfordcityac.com/event/cyclability-oxford-42/
LOCATION:Horspath Athletics Track\, Horspath Athletics Track\, Oxford\, Oxfordshire\, OX4 2RR\, United Kingdom
CATEGORIES:External Booking
END:VEVENT
BEGIN:VEVENT
DTSTART;TZID=Europe/London:20261016T093000
DTEND;TZID=Europe/London:20261016T130000
DTSTAMP:20260423T110457
CREATED:20260131T104113Z
LAST-MODIFIED:20260320T144819Z
UID:8904-1792143000-1792155600@oxfordcityac.com
SUMMARY:CyclAbility - Oxford
DESCRIPTION:We provide inclusive\, adult (16+) cycling facilities in a safe and supportive environment in Oxford. We have qualified cycling instructors to help you get started; adaptive cycling experts to give advice; mechanics to troubleshoot issues and amazing volunteers to support you.
URL:https://oxfordcityac.com/event/cyclability-oxford-86/
LOCATION:Horspath Athletics Track\, Horspath Athletics Track\, Oxford\, Oxfordshire\, OX4 2RR\, United Kingdom
CATEGORIES:External Booking
END:VEVENT
BEGIN:VEVENT
DTSTART;TZID=Europe/London:20261020T093000
DTEND;TZID=Europe/London:20261020T120000
DTSTAMP:20260423T110457
CREATED:20260131T103432Z
LAST-MODIFIED:20260320T144819Z
UID:8858-1792488600-1792497600@oxfordcityac.com
SUMMARY:CyclAbility - Oxford
DESCRIPTION:We provide inclusive\, adult (16+) cycling facilities in a safe and supportive environment in Oxford. We have qualified cycling instructors to help you get started; adaptive cycling experts to give advice; mechanics to troubleshoot issues and amazing volunteers to support you.
URL:https://oxfordcityac.com/event/cyclability-oxford-43/
LOCATION:Horspath Athletics Track\, Horspath Athletics Track\, Oxford\, Oxfordshire\, OX4 2RR\, United Kingdom
CATEGORIES:External Booking
END:VEVENT
BEGIN:VEVENT
DTSTART;TZID=Europe/London:20261023T093000
DTEND;TZID=Europe/London:20261023T130000
DTSTAMP:20260423T110457
CREATED:20260131T104114Z
LAST-MODIFIED:20260320T144819Z
UID:8905-1792747800-1792760400@oxfordcityac.com
SUMMARY:CyclAbility - Oxford
DESCRIPTION:We provide inclusive\, adult (16+) cycling facilities in a safe and supportive environment in Oxford. We have qualified cycling instructors to help you get started; adaptive cycling experts to give advice; mechanics to troubleshoot issues and amazing volunteers to support you.
URL:https://oxfordcityac.com/event/cyclability-oxford-87/
LOCATION:Horspath Athletics Track\, Horspath Athletics Track\, Oxford\, Oxfordshire\, OX4 2RR\, United Kingdom
CATEGORIES:External Booking
END:VEVENT
BEGIN:VEVENT
DTSTART;TZID=Europe/London:20261027T093000
DTEND;TZID=Europe/London:20261027T120000
DTSTAMP:20260423T110457
CREATED:20260131T103432Z
LAST-MODIFIED:20260320T144819Z
UID:8859-1793093400-1793102400@oxfordcityac.com
SUMMARY:CyclAbility - Oxford
DESCRIPTION:We provide inclusive\, adult (16+) cycling facilities in a safe and supportive environment in Oxford. We have qualified cycling instructors to help you get started; adaptive cycling experts to give advice; mechanics to troubleshoot issues and amazing volunteers to support you.
URL:https://oxfordcityac.com/event/cyclability-oxford-44/
LOCATION:Horspath Athletics Track\, Horspath Athletics Track\, Oxford\, Oxfordshire\, OX4 2RR\, United Kingdom
CATEGORIES:External Booking
END:VEVENT
BEGIN:VEVENT
DTSTART;TZID=Europe/London:20261030T093000
DTEND;TZID=Europe/London:20261030T130000
DTSTAMP:20260423T110457
CREATED:20260131T104114Z
LAST-MODIFIED:20260320T145441Z
UID:8906-1793352600-1793365200@oxfordcityac.com
SUMMARY:CyclAbility - Oxford
DESCRIPTION:We provide inclusive\, adult (16+) cycling facilities in a safe and supportive environment in Oxford. We have qualified cycling instructors to help you get started; adaptive cycling experts to give advice; mechanics to troubleshoot issues and amazing volunteers to support you.
URL:https://oxfordcityac.com/event/cyclability-oxford-88/
LOCATION:Horspath Athletics Track\, Horspath Athletics Track\, Oxford\, Oxfordshire\, OX4 2RR\, United Kingdom
CATEGORIES:External Booking
END:VEVENT
BEGIN:VEVENT
DTSTART;TZID=Europe/London:20261103T093000
DTEND;TZID=Europe/London:20261103T120000
DTSTAMP:20260423T110457
CREATED:20260131T103503Z
LAST-MODIFIED:20260320T145441Z
UID:8860-1793698200-1793707200@oxfordcityac.com
SUMMARY:CyclAbility - Oxford
DESCRIPTION:We provide inclusive\, adult (16+) cycling facilities in a safe and supportive environment in Oxford. We have qualified cycling instructors to help you get started; adaptive cycling experts to give advice; mechanics to troubleshoot issues and amazing volunteers to support you.
URL:https://oxfordcityac.com/event/cyclability-oxford-45/
LOCATION:Horspath Athletics Track\, Horspath Athletics Track\, Oxford\, Oxfordshire\, OX4 2RR\, United Kingdom
CATEGORIES:External Booking
END:VEVENT
BEGIN:VEVENT
DTSTART;TZID=Europe/London:20261106T093000
DTEND;TZID=Europe/London:20261106T123000
DTSTAMP:20260423T110457
CREATED:20260131T104128Z
LAST-MODIFIED:20260320T145441Z
UID:8907-1793957400-1793968200@oxfordcityac.com
SUMMARY:CyclAbility - Oxford
DESCRIPTION:We provide inclusive\, adult (16+) cycling facilities in a safe and supportive environment in Oxford. We have qualified cycling instructors to help you get started; adaptive cycling experts to give advice; mechanics to troubleshoot issues and amazing volunteers to support you.
URL:https://oxfordcityac.com/event/cyclability-oxford-89/
LOCATION:Horspath Athletics Track\, Horspath Athletics Track\, Oxford\, Oxfordshire\, OX4 2RR\, United Kingdom
CATEGORIES:External Booking
END:VEVENT
BEGIN:VEVENT
DTSTART;TZID=Europe/London:20261110T093000
DTEND;TZID=Europe/London:20261110T120000
DTSTAMP:20260423T110457
CREATED:20260131T103503Z
LAST-MODIFIED:20260320T145441Z
UID:8861-1794303000-1794312000@oxfordcityac.com
SUMMARY:CyclAbility - Oxford
DESCRIPTION:We provide inclusive\, adult (16+) cycling facilities in a safe and supportive environment in Oxford. We have qualified cycling instructors to help you get started; adaptive cycling experts to give advice; mechanics to troubleshoot issues and amazing volunteers to support you.
URL:https://oxfordcityac.com/event/cyclability-oxford-46/
LOCATION:Horspath Athletics Track\, Horspath Athletics Track\, Oxford\, Oxfordshire\, OX4 2RR\, United Kingdom
CATEGORIES:External Booking
END:VEVENT
BEGIN:VEVENT
DTSTART;TZID=Europe/London:20261113T093000
DTEND;TZID=Europe/London:20261113T123000
DTSTAMP:20260423T110457
CREATED:20260131T104128Z
LAST-MODIFIED:20260320T145441Z
UID:8908-1794562200-1794573000@oxfordcityac.com
SUMMARY:CyclAbility - Oxford
DESCRIPTION:We provide inclusive\, adult (16+) cycling facilities in a safe and supportive environment in Oxford. We have qualified cycling instructors to help you get started; adaptive cycling experts to give advice; mechanics to troubleshoot issues and amazing volunteers to support you.
URL:https://oxfordcityac.com/event/cyclability-oxford-90/
LOCATION:Horspath Athletics Track\, Horspath Athletics Track\, Oxford\, Oxfordshire\, OX4 2RR\, United Kingdom
CATEGORIES:External Booking
END:VEVENT
BEGIN:VEVENT
DTSTART;TZID=Europe/London:20261117T093000
DTEND;TZID=Europe/London:20261117T120000
DTSTAMP:20260423T110457
CREATED:20260131T103503Z
LAST-MODIFIED:20260320T145456Z
UID:8862-1794907800-1794916800@oxfordcityac.com
SUMMARY:CyclAbility - Oxford
DESCRIPTION:We provide inclusive\, adult (16+) cycling facilities in a safe and supportive environment in Oxford. We have qualified cycling instructors to help you get started; adaptive cycling experts to give advice; mechanics to troubleshoot issues and amazing volunteers to support you.
URL:https://oxfordcityac.com/event/cyclability-oxford-47/
LOCATION:Horspath Athletics Track\, Horspath Athletics Track\, Oxford\, Oxfordshire\, OX4 2RR\, United Kingdom
CATEGORIES:External Booking
END:VEVENT
BEGIN:VEVENT
DTSTART;TZID=Europe/London:20261120T093000
DTEND;TZID=Europe/London:20261120T123000
DTSTAMP:20260423T110457
CREATED:20260131T104128Z
LAST-MODIFIED:20260320T145457Z
UID:8909-1795167000-1795177800@oxfordcityac.com
SUMMARY:CyclAbility - Oxford
DESCRIPTION:We provide inclusive\, adult (16+) cycling facilities in a safe and supportive environment in Oxford. We have qualified cycling instructors to help you get started; adaptive cycling experts to give advice; mechanics to troubleshoot issues and amazing volunteers to support you.
URL:https://oxfordcityac.com/event/cyclability-oxford-91/
LOCATION:Horspath Athletics Track\, Horspath Athletics Track\, Oxford\, Oxfordshire\, OX4 2RR\, United Kingdom
CATEGORIES:External Booking
END:VEVENT
BEGIN:VEVENT
DTSTART;TZID=Europe/London:20261124T093000
DTEND;TZID=Europe/London:20261124T120000
DTSTAMP:20260423T110457
CREATED:20260131T103503Z
LAST-MODIFIED:20260320T145457Z
UID:8863-1795512600-1795521600@oxfordcityac.com
SUMMARY:CyclAbility - Oxford
DESCRIPTION:We provide inclusive\, adult (16+) cycling facilities in a safe and supportive environment in Oxford. We have qualified cycling instructors to help you get started; adaptive cycling experts to give advice; mechanics to troubleshoot issues and amazing volunteers to support you.
URL:https://oxfordcityac.com/event/cyclability-oxford-48/
LOCATION:Horspath Athletics Track\, Horspath Athletics Track\, Oxford\, Oxfordshire\, OX4 2RR\, United Kingdom
CATEGORIES:External Booking
END:VEVENT
BEGIN:VEVENT
DTSTART;TZID=Europe/London:20261127T093000
DTEND;TZID=Europe/London:20261127T123000
DTSTAMP:20260423T110457
CREATED:20260131T104129Z
LAST-MODIFIED:20260320T145457Z
UID:8910-1795771800-1795782600@oxfordcityac.com
SUMMARY:CyclAbility - Oxford
DESCRIPTION:We provide inclusive\, adult (16+) cycling facilities in a safe and supportive environment in Oxford. We have qualified cycling instructors to help you get started; adaptive cycling experts to give advice; mechanics to troubleshoot issues and amazing volunteers to support you.
URL:https://oxfordcityac.com/event/cyclability-oxford-92/
LOCATION:Horspath Athletics Track\, Horspath Athletics Track\, Oxford\, Oxfordshire\, OX4 2RR\, United Kingdom
CATEGORIES:External Booking
END:VEVENT
BEGIN:VEVENT
DTSTART;TZID=Europe/London:20261201T093000
DTEND;TZID=Europe/London:20261201T120000
DTSTAMP:20260423T110457
CREATED:20260131T103503Z
LAST-MODIFIED:20260320T145457Z
UID:8864-1796117400-1796126400@oxfordcityac.com
SUMMARY:CyclAbility - Oxford
DESCRIPTION:We provide inclusive\, adult (16+) cycling facilities in a safe and supportive environment in Oxford. We have qualified cycling instructors to help you get started; adaptive cycling experts to give advice; mechanics to troubleshoot issues and amazing volunteers to support you.
URL:https://oxfordcityac.com/event/cyclability-oxford-49/
LOCATION:Horspath Athletics Track\, Horspath Athletics Track\, Oxford\, Oxfordshire\, OX4 2RR\, United Kingdom
CATEGORIES:External Booking
END:VEVENT
BEGIN:VEVENT
DTSTART;TZID=Europe/London:20261204T093000
DTEND;TZID=Europe/London:20261204T123000
DTSTAMP:20260423T110457
CREATED:20260131T104129Z
LAST-MODIFIED:20260320T145556Z
UID:8911-1796376600-1796387400@oxfordcityac.com
SUMMARY:CyclAbility - Oxford
DESCRIPTION:We provide inclusive\, adult (16+) cycling facilities in a safe and supportive environment in Oxford. We have qualified cycling instructors to help you get started; adaptive cycling experts to give advice; mechanics to troubleshoot issues and amazing volunteers to support you.
URL:https://oxfordcityac.com/event/cyclability-oxford-93/
LOCATION:Horspath Athletics Track\, Horspath Athletics Track\, Oxford\, Oxfordshire\, OX4 2RR\, United Kingdom
CATEGORIES:External Booking
END:VEVENT
BEGIN:VEVENT
DTSTART;TZID=Europe/London:20261208T093000
DTEND;TZID=Europe/London:20261208T120000
DTSTAMP:20260423T110457
CREATED:20260131T103518Z
LAST-MODIFIED:20260320T145556Z
UID:8865-1796722200-1796731200@oxfordcityac.com
SUMMARY:CyclAbility - Oxford
DESCRIPTION:We provide inclusive\, adult (16+) cycling facilities in a safe and supportive environment in Oxford. We have qualified cycling instructors to help you get started; adaptive cycling experts to give advice; mechanics to troubleshoot issues and amazing volunteers to support you.
URL:https://oxfordcityac.com/event/cyclability-oxford-50/
LOCATION:Horspath Athletics Track\, Horspath Athletics Track\, Oxford\, Oxfordshire\, OX4 2RR\, United Kingdom
CATEGORIES:External Booking
END:VEVENT
BEGIN:VEVENT
DTSTART;TZID=Europe/London:20261211T093000
DTEND;TZID=Europe/London:20261211T123000
DTSTAMP:20260423T110457
CREATED:20260131T104143Z
LAST-MODIFIED:20260320T145556Z
UID:8912-1796981400-1796992200@oxfordcityac.com
SUMMARY:CyclAbility - Oxford
DESCRIPTION:We provide inclusive\, adult (16+) cycling facilities in a safe and supportive environment in Oxford. We have qualified cycling instructors to help you get started; adaptive cycling experts to give advice; mechanics to troubleshoot issues and amazing volunteers to support you.
URL:https://oxfordcityac.com/event/cyclability-oxford-94/
LOCATION:Horspath Athletics Track\, Horspath Athletics Track\, Oxford\, Oxfordshire\, OX4 2RR\, United Kingdom
CATEGORIES:External Booking
END:VEVENT
BEGIN:VEVENT
DTSTART;TZID=Europe/London:20261215T093000
DTEND;TZID=Europe/London:20261215T120000
DTSTAMP:20260423T110457
CREATED:20260131T103518Z
LAST-MODIFIED:20260320T145556Z
UID:8866-1797327000-1797336000@oxfordcityac.com
SUMMARY:CyclAbility - Oxford
DESCRIPTION:We provide inclusive\, adult (16+) cycling facilities in a safe and supportive environment in Oxford. We have qualified cycling instructors to help you get started; adaptive cycling experts to give advice; mechanics to troubleshoot issues and amazing volunteers to support you.
URL:https://oxfordcityac.com/event/cyclability-oxford-51/
LOCATION:Horspath Athletics Track\, Horspath Athletics Track\, Oxford\, Oxfordshire\, OX4 2RR\, United Kingdom
CATEGORIES:External Booking
END:VEVENT
BEGIN:VEVENT
DTSTART;TZID=Europe/London:20261218T093000
DTEND;TZID=Europe/London:20261218T123000
DTSTAMP:20260423T110457
CREATED:20260131T104143Z
LAST-MODIFIED:20260320T145556Z
UID:8913-1797586200-1797597000@oxfordcityac.com
SUMMARY:CyclAbility - Oxford
DESCRIPTION:We provide inclusive\, adult (16+) cycling facilities in a safe and supportive environment in Oxford. We have qualified cycling instructors to help you get started; adaptive cycling experts to give advice; mechanics to troubleshoot issues and amazing volunteers to support you.
URL:https://oxfordcityac.com/event/cyclability-oxford-95/
LOCATION:Horspath Athletics Track\, Horspath Athletics Track\, Oxford\, Oxfordshire\, OX4 2RR\, United Kingdom
CATEGORIES:External Booking
END:VEVENT
BEGIN:VEVENT
DTSTART;TZID=Europe/London:20261222T093000
DTEND;TZID=Europe/London:20261222T120000
DTSTAMP:20260423T110457
CREATED:20260131T103518Z
LAST-MODIFIED:20260320T145611Z
UID:8867-1797931800-1797940800@oxfordcityac.com
SUMMARY:CyclAbility - Oxford
DESCRIPTION:We provide inclusive\, adult (16+) cycling facilities in a safe and supportive environment in Oxford. We have qualified cycling instructors to help you get started; adaptive cycling experts to give advice; mechanics to troubleshoot issues and amazing volunteers to support you.
URL:https://oxfordcityac.com/event/cyclability-oxford-52/
LOCATION:Horspath Athletics Track\, Horspath Athletics Track\, Oxford\, Oxfordshire\, OX4 2RR\, United Kingdom
CATEGORIES:External Booking
END:VEVENT
BEGIN:VEVENT
DTSTART;TZID=Europe/London:20261229T093000
DTEND;TZID=Europe/London:20261229T120000
DTSTAMP:20260423T110457
CREATED:20260131T103518Z
LAST-MODIFIED:20260320T145611Z
UID:8868-1798536600-1798545600@oxfordcityac.com
SUMMARY:CyclAbility - Oxford
DESCRIPTION:We provide inclusive\, adult (16+) cycling facilities in a safe and supportive environment in Oxford. We have qualified cycling instructors to help you get started; adaptive cycling experts to give advice; mechanics to troubleshoot issues and amazing volunteers to support you.
URL:https://oxfordcityac.com/event/cyclability-oxford-53/
LOCATION:Horspath Athletics Track\, Horspath Athletics Track\, Oxford\, Oxfordshire\, OX4 2RR\, United Kingdom
CATEGORIES:External Booking
END:VEVENT
BEGIN:VEVENT
DTSTART;TZID=Europe/London:20270101T093000
DTEND;TZID=Europe/London:20270101T123000
DTSTAMP:20260423T110457
CREATED:20260131T104144Z
LAST-MODIFIED:20260320T145611Z
UID:8915-1798795800-1798806600@oxfordcityac.com
SUMMARY:CyclAbility - Oxford
DESCRIPTION:We provide inclusive\, adult (16+) cycling facilities in a safe and supportive environment in Oxford. We have qualified cycling instructors to help you get started; adaptive cycling experts to give advice; mechanics to troubleshoot issues and amazing volunteers to support you.
URL:https://oxfordcityac.com/event/cyclability-oxford-97/
LOCATION:Horspath Athletics Track\, Horspath Athletics Track\, Oxford\, Oxfordshire\, OX4 2RR\, United Kingdom
CATEGORIES:External Booking
END:VEVENT
END:VCALENDAR