BEGIN:VCALENDAR
VERSION:2.0
PRODID:-//Oxford City Athletic Club - ECPv6.15.20//NONSGML v1.0//EN
CALSCALE:GREGORIAN
METHOD:PUBLISH
X-ORIGINAL-URL:https://oxfordcityac.com
X-WR-CALDESC:Events for Oxford City Athletic Club
REFRESH-INTERVAL;VALUE=DURATION:PT1H
X-Robots-Tag:noindex
X-PUBLISHED-TTL:PT1H
BEGIN:VTIMEZONE
TZID:Europe/London
BEGIN:DAYLIGHT
TZOFFSETFROM:+0000
TZOFFSETTO:+0100
TZNAME:BST
DTSTART:20250330T010000
END:DAYLIGHT
BEGIN:STANDARD
TZOFFSETFROM:+0100
TZOFFSETTO:+0000
TZNAME:GMT
DTSTART:20251026T010000
END:STANDARD
BEGIN:DAYLIGHT
TZOFFSETFROM:+0000
TZOFFSETTO:+0100
TZNAME:BST
DTSTART:20260329T010000
END:DAYLIGHT
BEGIN:STANDARD
TZOFFSETFROM:+0100
TZOFFSETTO:+0000
TZNAME:GMT
DTSTART:20261025T010000
END:STANDARD
BEGIN:DAYLIGHT
TZOFFSETFROM:+0000
TZOFFSETTO:+0100
TZNAME:BST
DTSTART:20270328T010000
END:DAYLIGHT
BEGIN:STANDARD
TZOFFSETFROM:+0100
TZOFFSETTO:+0000
TZNAME:GMT
DTSTART:20271031T010000
END:STANDARD
END:VTIMEZONE
BEGIN:VEVENT
DTSTART;TZID=Europe/London:20260501T093000
DTEND;TZID=Europe/London:20260501T130000
DTSTAMP:20260422T195125
CREATED:20260131T103934Z
LAST-MODIFIED:20260320T144243Z
UID:8880-1777627800-1777640400@oxfordcityac.com
SUMMARY:CyclAbility - Oxford
DESCRIPTION:We provide inclusive\, adult (16+) cycling facilities in a safe and supportive environment in Oxford. We have qualified cycling instructors to help you get started; adaptive cycling experts to give advice; mechanics to troubleshoot issues and amazing volunteers to support you.
URL:https://oxfordcityac.com/event/cyclability-oxford-62/
LOCATION:Horspath Athletics Track\, Horspath Athletics Track\, Oxford\, Oxfordshire\, OX4 2RR\, United Kingdom
CATEGORIES:External Booking
END:VEVENT
BEGIN:VEVENT
DTSTART;TZID=Europe/London:20260505T093000
DTEND;TZID=Europe/London:20260505T120000
DTSTAMP:20260422T195125
CREATED:20260131T103309Z
LAST-MODIFIED:20260320T144243Z
UID:8834-1777973400-1777982400@oxfordcityac.com
SUMMARY:CyclAbility - Oxford
DESCRIPTION:We provide inclusive\, adult (16+) cycling facilities in a safe and supportive environment in Oxford. We have qualified cycling instructors to help you get started; adaptive cycling experts to give advice; mechanics to troubleshoot issues and amazing volunteers to support you.
URL:https://oxfordcityac.com/event/cyclability-oxford-19/
LOCATION:Horspath Athletics Track\, Horspath Athletics Track\, Oxford\, Oxfordshire\, OX4 2RR\, United Kingdom
CATEGORIES:External Booking
END:VEVENT
BEGIN:VEVENT
DTSTART;TZID=Europe/London:20260508T093000
DTEND;TZID=Europe/London:20260508T130000
DTSTAMP:20260422T195125
CREATED:20260131T103934Z
LAST-MODIFIED:20260320T144256Z
UID:8881-1778232600-1778245200@oxfordcityac.com
SUMMARY:CyclAbility - Oxford
DESCRIPTION:We provide inclusive\, adult (16+) cycling facilities in a safe and supportive environment in Oxford. We have qualified cycling instructors to help you get started; adaptive cycling experts to give advice; mechanics to troubleshoot issues and amazing volunteers to support you.
URL:https://oxfordcityac.com/event/cyclability-oxford-63/
LOCATION:Horspath Athletics Track\, Horspath Athletics Track\, Oxford\, Oxfordshire\, OX4 2RR\, United Kingdom
CATEGORIES:External Booking
END:VEVENT
BEGIN:VEVENT
DTSTART;TZID=Europe/London:20260512T093000
DTEND;TZID=Europe/London:20260512T120000
DTSTAMP:20260422T195125
CREATED:20260131T103323Z
LAST-MODIFIED:20260320T144256Z
UID:8835-1778578200-1778587200@oxfordcityac.com
SUMMARY:CyclAbility - Oxford
DESCRIPTION:We provide inclusive\, adult (16+) cycling facilities in a safe and supportive environment in Oxford. We have qualified cycling instructors to help you get started; adaptive cycling experts to give advice; mechanics to troubleshoot issues and amazing volunteers to support you.
URL:https://oxfordcityac.com/event/cyclability-oxford-20/
LOCATION:Horspath Athletics Track\, Horspath Athletics Track\, Oxford\, Oxfordshire\, OX4 2RR\, United Kingdom
CATEGORIES:External Booking
END:VEVENT
BEGIN:VEVENT
DTSTART;TZID=Europe/London:20260515T093000
DTEND;TZID=Europe/London:20260515T130000
DTSTAMP:20260422T195125
CREATED:20260131T103949Z
LAST-MODIFIED:20260320T144256Z
UID:8882-1778837400-1778850000@oxfordcityac.com
SUMMARY:CyclAbility - Oxford
DESCRIPTION:We provide inclusive\, adult (16+) cycling facilities in a safe and supportive environment in Oxford. We have qualified cycling instructors to help you get started; adaptive cycling experts to give advice; mechanics to troubleshoot issues and amazing volunteers to support you.
URL:https://oxfordcityac.com/event/cyclability-oxford-64/
LOCATION:Horspath Athletics Track\, Horspath Athletics Track\, Oxford\, Oxfordshire\, OX4 2RR\, United Kingdom
CATEGORIES:External Booking
END:VEVENT
BEGIN:VEVENT
DTSTART;TZID=Europe/London:20260519T093000
DTEND;TZID=Europe/London:20260519T120000
DTSTAMP:20260422T195125
CREATED:20260131T103323Z
LAST-MODIFIED:20260320T144256Z
UID:8836-1779183000-1779192000@oxfordcityac.com
SUMMARY:CyclAbility - Oxford
DESCRIPTION:We provide inclusive\, adult (16+) cycling facilities in a safe and supportive environment in Oxford. We have qualified cycling instructors to help you get started; adaptive cycling experts to give advice; mechanics to troubleshoot issues and amazing volunteers to support you.
URL:https://oxfordcityac.com/event/cyclability-oxford-21/
LOCATION:Horspath Athletics Track\, Horspath Athletics Track\, Oxford\, Oxfordshire\, OX4 2RR\, United Kingdom
CATEGORIES:External Booking
END:VEVENT
BEGIN:VEVENT
DTSTART;TZID=Europe/London:20260522T093000
DTEND;TZID=Europe/London:20260522T130000
DTSTAMP:20260422T195125
CREATED:20260131T103949Z
LAST-MODIFIED:20260320T144256Z
UID:8883-1779442200-1779454800@oxfordcityac.com
SUMMARY:CyclAbility - Oxford
DESCRIPTION:We provide inclusive\, adult (16+) cycling facilities in a safe and supportive environment in Oxford. We have qualified cycling instructors to help you get started; adaptive cycling experts to give advice; mechanics to troubleshoot issues and amazing volunteers to support you.
URL:https://oxfordcityac.com/event/cyclability-oxford-65/
LOCATION:Horspath Athletics Track\, Horspath Athletics Track\, Oxford\, Oxfordshire\, OX4 2RR\, United Kingdom
CATEGORIES:External Booking
END:VEVENT
BEGIN:VEVENT
DTSTART;TZID=Europe/London:20260526T093000
DTEND;TZID=Europe/London:20260526T130000
DTSTAMP:20260422T195125
CREATED:20260131T103323Z
LAST-MODIFIED:20260320T144258Z
UID:8837-1779787800-1779800400@oxfordcityac.com
SUMMARY:CyclAbility - Oxford
DESCRIPTION:We provide inclusive\, adult (16+) cycling facilities in a safe and supportive environment in Oxford. We have qualified cycling instructors to help you get started; adaptive cycling experts to give advice; mechanics to troubleshoot issues and amazing volunteers to support you.
URL:https://oxfordcityac.com/event/cyclability-oxford-22/
LOCATION:Horspath Athletics Track\, Horspath Athletics Track\, Oxford\, Oxfordshire\, OX4 2RR\, United Kingdom
CATEGORIES:External Booking
END:VEVENT
BEGIN:VEVENT
DTSTART;TZID=Europe/London:20260529T093000
DTEND;TZID=Europe/London:20260529T130000
DTSTAMP:20260422T195125
CREATED:20260131T103950Z
LAST-MODIFIED:20260320T144258Z
UID:8884-1780047000-1780059600@oxfordcityac.com
SUMMARY:CyclAbility - Oxford
DESCRIPTION:We provide inclusive\, adult (16+) cycling facilities in a safe and supportive environment in Oxford. We have qualified cycling instructors to help you get started; adaptive cycling experts to give advice; mechanics to troubleshoot issues and amazing volunteers to support you.
URL:https://oxfordcityac.com/event/cyclability-oxford-66/
LOCATION:Horspath Athletics Track\, Horspath Athletics Track\, Oxford\, Oxfordshire\, OX4 2RR\, United Kingdom
CATEGORIES:External Booking
END:VEVENT
BEGIN:VEVENT
DTSTART;VALUE=DATE:20260530
DTEND;VALUE=DATE:20260531
DTSTAMP:20260422T195125
CREATED:20251219T135924Z
LAST-MODIFIED:20260220T153833Z
UID:8490-1780099200-1780185599@oxfordcityac.com
SUMMARY:BMAF Championships - Throws Pentathlon\, 10000m & 1 mile
DESCRIPTION:
URL:https://oxfordcityac.com/event/bmaf-throws-pentathlon-and-10000m-champs/
LOCATION:Horspath Athletics Track\, Horspath Athletics Track\, Oxford\, Oxfordshire\, OX4 2RR\, United Kingdom
CATEGORIES:External Booking
END:VEVENT
END:VCALENDAR