BEGIN:VCALENDAR
VERSION:2.0
PRODID:-//Oxford City Athletic Club - ECPv6.15.20//NONSGML v1.0//EN
CALSCALE:GREGORIAN
METHOD:PUBLISH
X-WR-CALNAME:Oxford City Athletic Club
X-ORIGINAL-URL:https://oxfordcityac.com
X-WR-CALDESC:Events for Oxford City Athletic Club
REFRESH-INTERVAL;VALUE=DURATION:PT1H
X-Robots-Tag:noindex
X-PUBLISHED-TTL:PT1H
BEGIN:VTIMEZONE
TZID:Europe/London
BEGIN:DAYLIGHT
TZOFFSETFROM:+0000
TZOFFSETTO:+0100
TZNAME:BST
DTSTART:20240331T010000
END:DAYLIGHT
BEGIN:STANDARD
TZOFFSETFROM:+0100
TZOFFSETTO:+0000
TZNAME:GMT
DTSTART:20241027T010000
END:STANDARD
BEGIN:DAYLIGHT
TZOFFSETFROM:+0000
TZOFFSETTO:+0100
TZNAME:BST
DTSTART:20250330T010000
END:DAYLIGHT
BEGIN:STANDARD
TZOFFSETFROM:+0100
TZOFFSETTO:+0000
TZNAME:GMT
DTSTART:20251026T010000
END:STANDARD
BEGIN:DAYLIGHT
TZOFFSETFROM:+0000
TZOFFSETTO:+0100
TZNAME:BST
DTSTART:20260329T010000
END:DAYLIGHT
BEGIN:STANDARD
TZOFFSETFROM:+0100
TZOFFSETTO:+0000
TZNAME:GMT
DTSTART:20261025T010000
END:STANDARD
END:VTIMEZONE
BEGIN:VEVENT
DTSTART;TZID=Europe/London:20250308T080000
DTEND;TZID=Europe/London:20250308T170000
DTSTAMP:20260424T102010
CREATED:20250120T210310Z
LAST-MODIFIED:20250120T210310Z
UID:7805-1741420800-1741453200@oxfordcityac.com
SUMMARY:British Masters Athletics Federation Winter Throws Competition
DESCRIPTION:
URL:https://oxfordcityac.com/event/british-masters-athletics-federation-winter-throws-competition/
LOCATION:TBC\, United Kingdom
CATEGORIES:External Booking
END:VEVENT
BEGIN:VEVENT
DTSTART;TZID=Europe/London:20250208T100000
DTEND;TZID=Europe/London:20250208T153000
DTSTAMP:20260424T102011
CREATED:20250122T111837Z
LAST-MODIFIED:20250122T112036Z
UID:7811-1739008800-1739028600@oxfordcityac.com
SUMMARY:Chiltern Cross Country League\, Round 5
DESCRIPTION:
URL:https://oxfordcityac.com/event/chiltern-cross-country-league-round-5/
LOCATION:TBC\, United Kingdom
CATEGORIES:Cross Country (Away)
END:VEVENT
BEGIN:VEVENT
DTSTART;TZID=Europe/London:20250122T090000
DTEND;TZID=Europe/London:20250122T170000
DTSTAMP:20260424T102011
CREATED:20250122T192511Z
LAST-MODIFIED:20250122T192511Z
UID:7872-1737536400-1737565200@oxfordcityac.com
SUMMARY:British Masters Athletic Federation\, Throws Pentathlon and 10k Races
DESCRIPTION:
URL:https://oxfordcityac.com/event/british-masters-athletic-federation-throws-pentathlon-and-10k-races/
LOCATION:TBC\, United Kingdom
CATEGORIES:External Booking
END:VEVENT
END:VCALENDAR