BEGIN:VCALENDAR
VERSION:2.0
PRODID:-//Oxford City Athletic Club - ECPv6.15.20//NONSGML v1.0//EN
CALSCALE:GREGORIAN
METHOD:PUBLISH
X-WR-CALNAME:Oxford City Athletic Club
X-ORIGINAL-URL:https://oxfordcityac.com
X-WR-CALDESC:Events for Oxford City Athletic Club
REFRESH-INTERVAL;VALUE=DURATION:PT1H
X-Robots-Tag:noindex
X-PUBLISHED-TTL:PT1H
BEGIN:VTIMEZONE
TZID:Europe/London
BEGIN:DAYLIGHT
TZOFFSETFROM:+0000
TZOFFSETTO:+0100
TZNAME:BST
DTSTART:20240331T010000
END:DAYLIGHT
BEGIN:STANDARD
TZOFFSETFROM:+0100
TZOFFSETTO:+0000
TZNAME:GMT
DTSTART:20241027T010000
END:STANDARD
BEGIN:DAYLIGHT
TZOFFSETFROM:+0000
TZOFFSETTO:+0100
TZNAME:BST
DTSTART:20250330T010000
END:DAYLIGHT
BEGIN:STANDARD
TZOFFSETFROM:+0100
TZOFFSETTO:+0000
TZNAME:GMT
DTSTART:20251026T010000
END:STANDARD
BEGIN:DAYLIGHT
TZOFFSETFROM:+0000
TZOFFSETTO:+0100
TZNAME:BST
DTSTART:20260329T010000
END:DAYLIGHT
BEGIN:STANDARD
TZOFFSETFROM:+0100
TZOFFSETTO:+0000
TZNAME:GMT
DTSTART:20261025T010000
END:STANDARD
END:VTIMEZONE
BEGIN:VEVENT
DTSTART;TZID=Europe/London:20250705T090000
DTEND;TZID=Europe/London:20250705T170000
DTSTAMP:20260423T085504
CREATED:20250123T132830Z
LAST-MODIFIED:20250219T084813Z
UID:7917-1751706000-1751734800@oxfordcityac.com
SUMMARY:SEAA Combined Events Championships
DESCRIPTION:
URL:https://oxfordcityac.com/event/seaa-combined-events-championships/
LOCATION:TBC\, United Kingdom
CATEGORIES:County Championship (Horspath)
END:VEVENT
BEGIN:VEVENT
DTSTART;TZID=Europe/London:20250704T190000
DTEND;TZID=Europe/London:20250704T220000
DTSTAMP:20260423T085504
CREATED:20250312T132054Z
LAST-MODIFIED:20250312T132306Z
UID:8153-1751655600-1751666400@oxfordcityac.com
SUMMARY:Southern Counties Veterans Athletics League
DESCRIPTION:
URL:https://oxfordcityac.com/event/southern-counties-veterans-athletics-league-4/
LOCATION:Swindon Harriers AC Track\, Swindon Harriers Athletics Club\, Foundation Park\, County Ground Lane\, Swindon\, SN1 2FD.\, United Kingdom
CATEGORIES:Club Match (Away)
END:VEVENT
BEGIN:VEVENT
DTSTART;TZID=Europe/London:20250703T103000
DTEND;TZID=Europe/London:20250703T163000
DTSTAMP:20260423T085504
CREATED:20250219T085258Z
LAST-MODIFIED:20250219T085258Z
UID:8012-1751538600-1751560200@oxfordcityac.com
SUMMARY:Have a Go Day
DESCRIPTION:
URL:https://oxfordcityac.com/event/have-a-go-day/
LOCATION:TBC\, United Kingdom
CATEGORIES:External Booking
END:VEVENT
BEGIN:VEVENT
DTSTART;TZID=Europe/London:20250702T110000
DTEND;TZID=Europe/London:20250702T160000
DTSTAMP:20260423T085504
CREATED:20250123T132731Z
LAST-MODIFIED:20250123T132731Z
UID:7915-1751454000-1751472000@oxfordcityac.com
SUMMARY:The King's School Witney Sports Day
DESCRIPTION:
URL:https://oxfordcityac.com/event/the-kings-school-witney-sports-day/
LOCATION:TBC\, United Kingdom
CATEGORIES:External Booking
END:VEVENT
BEGIN:VEVENT
DTSTART;TZID=Europe/London:20250629T100000
DTEND;TZID=Europe/London:20250629T170000
DTSTAMP:20260423T085504
CREATED:20250123T132451Z
LAST-MODIFIED:20250123T132451Z
UID:7909-1751191200-1751216400@oxfordcityac.com
SUMMARY:YDL Southern Division 1C\, Lower Age Group\, Round 3
DESCRIPTION:
URL:https://oxfordcityac.com/event/ydl-southern-division-1c-lower-age-group-round-3/
LOCATION:Great Marlow\, United Kingdom
CATEGORIES:Club Match (Away)
END:VEVENT
BEGIN:VEVENT
DTSTART;TZID=Europe/London:20250629T090000
DTEND;TZID=Europe/London:20250629T170000
DTSTAMP:20260423T085504
CREATED:20250123T132232Z
LAST-MODIFIED:20250319T121152Z
UID:7907-1751187600-1751216400@oxfordcityac.com
SUMMARY:SEAA U20 and Senior Championships
DESCRIPTION:
URL:https://oxfordcityac.com/event/seaa-u20-and-senior-championships-2/
LOCATION:Chelmsford
CATEGORIES:County Championship (Horspath)
END:VEVENT
BEGIN:VEVENT
DTSTART;TZID=Europe/London:20250628T100000
DTEND;TZID=Europe/London:20250628T190000
DTSTAMP:20260423T085504
CREATED:20250314T123223Z
LAST-MODIFIED:20250314T123226Z
UID:8165-1751104800-1751137200@oxfordcityac.com
SUMMARY:OXMAS Family Sports Day
DESCRIPTION:
URL:https://oxfordcityac.com/event/oxmas-family-sports-day/
LOCATION:TBC\, United Kingdom
CATEGORIES:External Booking
END:VEVENT
BEGIN:VEVENT
DTSTART;TZID=Europe/London:20250628T090000
DTEND;TZID=Europe/London:20250628T170000
DTSTAMP:20260423T085504
CREATED:20250123T132200Z
LAST-MODIFIED:20250319T121125Z
UID:7905-1751101200-1751130000@oxfordcityac.com
SUMMARY:SEAA U20 and Senior Championships
DESCRIPTION:
URL:https://oxfordcityac.com/event/seaa-u20-and-senior-championships/
LOCATION:Chelmsford
CATEGORIES:County Championship (Horspath)
END:VEVENT
BEGIN:VEVENT
DTSTART;TZID=Europe/London:20250626T113000
DTEND;TZID=Europe/London:20250626T170000
DTSTAMP:20260423T085504
CREATED:20250123T132059Z
LAST-MODIFIED:20250123T132059Z
UID:7903-1750937400-1750957200@oxfordcityac.com
SUMMARY:St Edward’s School Sports Day
DESCRIPTION:
URL:https://oxfordcityac.com/event/st-edwards-school-sports-day/
LOCATION:TBC\, United Kingdom
CATEGORIES:External Booking
END:VEVENT
BEGIN:VEVENT
DTSTART;TZID=Europe/London:20250625T093000
DTEND;TZID=Europe/London:20250625T143000
DTSTAMP:20260423T085504
CREATED:20250123T132600Z
LAST-MODIFIED:20250123T132600Z
UID:7913-1750843800-1750861800@oxfordcityac.com
SUMMARY:St Bartholomew School Sports Day
DESCRIPTION:
URL:https://oxfordcityac.com/event/st-bartholomew-school-sports-day/
LOCATION:TBC\, United Kingdom
CATEGORIES:External Booking
END:VEVENT
BEGIN:VEVENT
DTSTART;TZID=Europe/London:20250623T090000
DTEND;TZID=Europe/London:20250623T153000
DTSTAMP:20260423T085504
CREATED:20250123T131948Z
LAST-MODIFIED:20250123T131951Z
UID:7901-1750669200-1750692600@oxfordcityac.com
SUMMARY:D'Overbroeckes College Sports Day
DESCRIPTION:
URL:https://oxfordcityac.com/event/doverbroeckes-college-sports-day/
LOCATION:TBC\, United Kingdom
CATEGORIES:External Booking
END:VEVENT
BEGIN:VEVENT
DTSTART;TZID=Europe/London:20250622T113000
DTEND;TZID=Europe/London:20250622T170000
DTSTAMP:20260423T085504
CREATED:20250122T190321Z
LAST-MODIFIED:20250122T190321Z
UID:7853-1750591800-1750611600@oxfordcityac.com
SUMMARY:Southern Athletics League\, Round 2
DESCRIPTION:
URL:https://oxfordcityac.com/event/southern-athletics-league-round-2/
LOCATION:Milton Keynes
CATEGORIES:Club Match (Away)
END:VEVENT
BEGIN:VEVENT
DTSTART;TZID=Europe/London:20250619T100000
DTEND;TZID=Europe/London:20250619T160000
DTSTAMP:20260423T085504
CREATED:20250123T131636Z
LAST-MODIFIED:20250123T131636Z
UID:7897-1750327200-1750348800@oxfordcityac.com
SUMMARY:Our Lady's Catholic Primary School\, Cowley Sports Day
DESCRIPTION:
URL:https://oxfordcityac.com/event/our-ladys-catholic-primary-school-cowley-sports-day/
LOCATION:TBC\, United Kingdom
CATEGORIES:External Booking
END:VEVENT
BEGIN:VEVENT
DTSTART;TZID=Europe/London:20250618T180000
DTEND;TZID=Europe/London:20250618T210000
DTSTAMP:20260423T085504
CREATED:20250122T191958Z
LAST-MODIFIED:20250122T191958Z
UID:7864-1750269600-1750280400@oxfordcityac.com
SUMMARY:Running 2 Time/OCAC Midweek Open
DESCRIPTION:
URL:https://oxfordcityac.com/event/running-2-time-ocac-midweek-open-3/
LOCATION:TBC\, United Kingdom
CATEGORIES:Open Competition (Home)
ORGANIZER;CN="Anett Fegyveres-Nagy":MAILTO:Admin@oxfordcityac.com
END:VEVENT
BEGIN:VEVENT
DTSTART;TZID=Europe/London:20250616T103000
DTEND;TZID=Europe/London:20250616T153000
DTSTAMP:20260423T085504
CREATED:20250414T140709Z
LAST-MODIFIED:20250414T140712Z
UID:8190-1750069800-1750087800@oxfordcityac.com
SUMMARY:The Swan School - GCSE Practicals
DESCRIPTION:
URL:https://oxfordcityac.com/event/the-swan-school-gcse-practicals/
LOCATION:Oxfordshire
CATEGORIES:External Booking
END:VEVENT
BEGIN:VEVENT
DTSTART;TZID=Europe/London:20250612T190000
DTEND;TZID=Europe/London:20250612T220000
DTSTAMP:20260423T085504
CREATED:20250312T131837Z
LAST-MODIFIED:20250312T132535Z
UID:8151-1749754800-1749765600@oxfordcityac.com
SUMMARY:Southern Counties Veterans Athletics League
DESCRIPTION:
URL:https://oxfordcityac.com/event/southern-counties-veterans-athletics-league-3/
LOCATION:Tilsley Park\, Abingdon\, Dunmore Road\, Abingdon\, OX14 1PU\, United Kingdom
CATEGORIES:Club Match (Away)
END:VEVENT
BEGIN:VEVENT
DTSTART;TZID=Europe/London:20250611T100000
DTEND;TZID=Europe/London:20250611T153000
DTSTAMP:20260423T085504
CREATED:20250122T193612Z
LAST-MODIFIED:20250122T193612Z
UID:7892-1749636000-1749655800@oxfordcityac.com
SUMMARY:West Oxfordshire Schools Partnership Athletics Competition
DESCRIPTION:
URL:https://oxfordcityac.com/event/west-oxfordshire-schools-partnership-athletics-competition/
LOCATION:TBC\, United Kingdom
CATEGORIES:External Booking
END:VEVENT
BEGIN:VEVENT
DTSTART;TZID=Europe/London:20250608T100000
DTEND;TZID=Europe/London:20250608T170000
DTSTAMP:20260423T085504
CREATED:20250122T193419Z
LAST-MODIFIED:20250428T113432Z
UID:7890-1749376800-1749402000@oxfordcityac.com
SUMMARY:South of England Athletic Association U13\, U15 and U17 Championships
DESCRIPTION:
URL:https://oxfordcityac.com/event/south-of-england-athletic-association-u13-u15-and-u17-championships-2/
LOCATION:Crystal Palace
CATEGORIES:County Championship (Horspath)
END:VEVENT
BEGIN:VEVENT
DTSTART;TZID=Europe/London:20250607T110000
DTEND;TZID=Europe/London:20250607T190000
DTSTAMP:20260423T085504
CREATED:20250319T121626Z
LAST-MODIFIED:20250319T121626Z
UID:8168-1749294000-1749322800@oxfordcityac.com
SUMMARY:Oxford Malayali Samajan - Family Sports Day and BBQ
DESCRIPTION:
URL:https://oxfordcityac.com/event/oxford-malayali-samajan-family-sports-day-and-bbq/
LOCATION:TBC\, United Kingdom
CATEGORIES:External Booking
END:VEVENT
BEGIN:VEVENT
DTSTART;TZID=Europe/London:20250607T100000
DTEND;TZID=Europe/London:20250607T170000
DTSTAMP:20260423T085504
CREATED:20250122T193338Z
LAST-MODIFIED:20250428T113402Z
UID:7886-1749290400-1749315600@oxfordcityac.com
SUMMARY:South of England Athletic Association U13\, U15 and U17 Championships
DESCRIPTION:
URL:https://oxfordcityac.com/event/south-of-england-athletic-association-u13-u15-and-u17-championships/
LOCATION:Crystal Palace
CATEGORIES:County Championship (Horspath)
END:VEVENT
BEGIN:VEVENT
DTSTART;TZID=Europe/London:20250605T090000
DTEND;TZID=Europe/London:20250605T170000
DTSTAMP:20260423T085504
CREATED:20250122T193112Z
LAST-MODIFIED:20250122T193112Z
UID:7883-1749114000-1749142800@oxfordcityac.com
SUMMARY:Haberdashers Schools Meeting
DESCRIPTION:
URL:https://oxfordcityac.com/event/haberdashers-schools-meeting/
LOCATION:TBC\, United Kingdom
CATEGORIES:External Booking
END:VEVENT
BEGIN:VEVENT
DTSTART;TZID=Europe/London:20250601T110000
DTEND;TZID=Europe/London:20250601T180000
DTSTAMP:20260423T085504
CREATED:20250122T192907Z
LAST-MODIFIED:20250122T192907Z
UID:7877-1748775600-1748800800@oxfordcityac.com
SUMMARY:YDL Southern Division 1C\, Lower Age Group\, Match 2
DESCRIPTION:
URL:https://oxfordcityac.com/event/ydl-southern-division-1c-lower-age-group-match-2/
LOCATION:Chiltern Harriers\, United Kingdom
CATEGORIES:Club Match (Away)
END:VEVENT
BEGIN:VEVENT
DTSTART;TZID=Europe/London:20250528T190000
DTEND;TZID=Europe/London:20250528T220000
DTSTAMP:20260423T085504
CREATED:20250312T131751Z
LAST-MODIFIED:20250312T132451Z
UID:8149-1748458800-1748469600@oxfordcityac.com
SUMMARY:Southern Counties Veterans Athletics League
DESCRIPTION:
URL:https://oxfordcityac.com/event/southern-counties-veterans-athletics-league-2/
LOCATION:Tilsley Park\, Abingdon\, Dunmore Road\, Abingdon\, OX14 1PU\, United Kingdom
CATEGORIES:Club Match (Away)
END:VEVENT
BEGIN:VEVENT
DTSTART;TZID=Europe/London:20250524T080000
DTEND;TZID=Europe/London:20250524T170000
DTSTAMP:20260423T085504
CREATED:20250122T192705Z
LAST-MODIFIED:20250122T192705Z
UID:7875-1748073600-1748106000@oxfordcityac.com
SUMMARY:British Masters Athletic Federation\, Throws Pentathlon and 10k races
DESCRIPTION:
URL:https://oxfordcityac.com/event/british-masters-athletic-federation-throws-pentathlon-and-10k-races-2/
LOCATION:TBC\, United Kingdom
CATEGORIES:External Booking
END:VEVENT
BEGIN:VEVENT
DTSTART;TZID=Europe/London:20250521T180000
DTEND;TZID=Europe/London:20250521T210000
DTSTAMP:20260423T085504
CREATED:20250122T191902Z
LAST-MODIFIED:20250122T191902Z
UID:7862-1747850400-1747861200@oxfordcityac.com
SUMMARY:Running 2 Time/OCAC Midweek Open
DESCRIPTION:
URL:https://oxfordcityac.com/event/running-2-time-ocac-midweek-open-2/
LOCATION:TBC\, United Kingdom
CATEGORIES:Open Competition (Home)
ORGANIZER;CN="Anett Fegyveres-Nagy":MAILTO:Admin@oxfordcityac.com
END:VEVENT
BEGIN:VEVENT
DTSTART;TZID=Europe/London:20250517T113000
DTEND;TZID=Europe/London:20250517T170000
DTSTAMP:20260423T085504
CREATED:20250122T190021Z
LAST-MODIFIED:20250122T190201Z
UID:7851-1747481400-1747501200@oxfordcityac.com
SUMMARY:Southern Athletics League\, Round 1
DESCRIPTION:
URL:https://oxfordcityac.com/event/southern-athletics-league-round-1/
LOCATION:TBC\, United Kingdom
CATEGORIES:Club Match (Home)
ORGANIZER;CN="Anett Fegyveres-Nagy":MAILTO:Admin@oxfordcityac.com
END:VEVENT
BEGIN:VEVENT
DTSTART;TZID=Europe/London:20250511T080000
DTEND;TZID=Europe/London:20250511T170000
DTSTAMP:20260423T085504
CREATED:20250122T185329Z
LAST-MODIFIED:20250122T185329Z
UID:7846-1746950400-1746982800@oxfordcityac.com
SUMMARY:Combined Oxfordshire and Buckinghamshire County Championships
DESCRIPTION:
URL:https://oxfordcityac.com/event/combined-oxfordshire-and-buckinghamshire-county-championships-2/
LOCATION:TBC\, United Kingdom
END:VEVENT
BEGIN:VEVENT
DTSTART;TZID=Europe/London:20250510T080000
DTEND;TZID=Europe/London:20250510T170000
DTSTAMP:20260423T085504
CREATED:20250122T185242Z
LAST-MODIFIED:20250122T185242Z
UID:7843-1746864000-1746896400@oxfordcityac.com
SUMMARY:Combined Oxfordshire and Buckinghamshire County Championships
DESCRIPTION:
URL:https://oxfordcityac.com/event/combined-oxfordshire-and-buckinghamshire-county-championships/
LOCATION:TBC\, United Kingdom
CATEGORIES:County Championship (Horspath)
END:VEVENT
BEGIN:VEVENT
DTSTART;TZID=Europe/London:20250507T190000
DTEND;TZID=Europe/London:20250507T190000
DTSTAMP:20260423T085504
CREATED:20250219T084500Z
LAST-MODIFIED:20250312T132416Z
UID:8008-1746644400-1746644400@oxfordcityac.com
SUMMARY:Southern Counties Veterans Athletics League
DESCRIPTION:
URL:https://oxfordcityac.com/event/southern-counties-veterans-athletics-league/
LOCATION:TBC\, United Kingdom
CATEGORIES:Club Match (Home)
END:VEVENT
BEGIN:VEVENT
DTSTART;TZID=Europe/London:20250505T140000
DTEND;TZID=Europe/London:20250505T180000
DTSTAMP:20260423T085504
CREATED:20250122T113800Z
LAST-MODIFIED:20250122T113800Z
UID:7835-1746453600-1746468000@oxfordcityac.com
SUMMARY:Bannister Festival of Miles
DESCRIPTION:
URL:https://oxfordcityac.com/event/bannister-festival-of-miles/
LOCATION:Iffley Road Track\, Oxford
CATEGORIES:Open Competition (Home)
END:VEVENT
END:VCALENDAR