BEGIN:VCALENDAR
VERSION:2.0
PRODID:-//Oxford City Athletic Club - ECPv6.15.20//NONSGML v1.0//EN
CALSCALE:GREGORIAN
METHOD:PUBLISH
X-ORIGINAL-URL:https://oxfordcityac.com
X-WR-CALDESC:Events for Oxford City Athletic Club
REFRESH-INTERVAL;VALUE=DURATION:PT1H
X-Robots-Tag:noindex
X-PUBLISHED-TTL:PT1H
BEGIN:VTIMEZONE
TZID:Europe/London
BEGIN:DAYLIGHT
TZOFFSETFROM:+0000
TZOFFSETTO:+0100
TZNAME:BST
DTSTART:20250330T010000
END:DAYLIGHT
BEGIN:STANDARD
TZOFFSETFROM:+0100
TZOFFSETTO:+0000
TZNAME:GMT
DTSTART:20251026T010000
END:STANDARD
BEGIN:DAYLIGHT
TZOFFSETFROM:+0000
TZOFFSETTO:+0100
TZNAME:BST
DTSTART:20260329T010000
END:DAYLIGHT
BEGIN:STANDARD
TZOFFSETFROM:+0100
TZOFFSETTO:+0000
TZNAME:GMT
DTSTART:20261025T010000
END:STANDARD
BEGIN:DAYLIGHT
TZOFFSETFROM:+0000
TZOFFSETTO:+0100
TZNAME:BST
DTSTART:20270328T010000
END:DAYLIGHT
BEGIN:STANDARD
TZOFFSETFROM:+0100
TZOFFSETTO:+0000
TZNAME:GMT
DTSTART:20271031T010000
END:STANDARD
BEGIN:DAYLIGHT
TZOFFSETFROM:+0000
TZOFFSETTO:+0100
TZNAME:BST
DTSTART:20280326T010000
END:DAYLIGHT
BEGIN:STANDARD
TZOFFSETFROM:+0100
TZOFFSETTO:+0000
TZNAME:GMT
DTSTART:20281029T010000
END:STANDARD
END:VTIMEZONE
BEGIN:VEVENT
DTSTART;TZID=Europe/London:20261222T093000
DTEND;TZID=Europe/London:20261222T120000
DTSTAMP:20260423T150038
CREATED:20260131T103518Z
LAST-MODIFIED:20260320T145611Z
UID:8867-1797931800-1797940800@oxfordcityac.com
SUMMARY:CyclAbility - Oxford
DESCRIPTION:We provide inclusive\, adult (16+) cycling facilities in a safe and supportive environment in Oxford. We have qualified cycling instructors to help you get started; adaptive cycling experts to give advice; mechanics to troubleshoot issues and amazing volunteers to support you.
URL:https://oxfordcityac.com/event/cyclability-oxford-52/
LOCATION:Horspath Athletics Track\, Horspath Athletics Track\, Oxford\, Oxfordshire\, OX4 2RR\, United Kingdom
CATEGORIES:External Booking
END:VEVENT
BEGIN:VEVENT
DTSTART;TZID=Europe/London:20261229T093000
DTEND;TZID=Europe/London:20261229T120000
DTSTAMP:20260423T150038
CREATED:20260131T103518Z
LAST-MODIFIED:20260320T145611Z
UID:8868-1798536600-1798545600@oxfordcityac.com
SUMMARY:CyclAbility - Oxford
DESCRIPTION:We provide inclusive\, adult (16+) cycling facilities in a safe and supportive environment in Oxford. We have qualified cycling instructors to help you get started; adaptive cycling experts to give advice; mechanics to troubleshoot issues and amazing volunteers to support you.
URL:https://oxfordcityac.com/event/cyclability-oxford-53/
LOCATION:Horspath Athletics Track\, Horspath Athletics Track\, Oxford\, Oxfordshire\, OX4 2RR\, United Kingdom
CATEGORIES:External Booking
END:VEVENT
BEGIN:VEVENT
DTSTART;TZID=Europe/London:20270101T093000
DTEND;TZID=Europe/London:20270101T123000
DTSTAMP:20260423T150038
CREATED:20260131T104144Z
LAST-MODIFIED:20260320T145611Z
UID:8915-1798795800-1798806600@oxfordcityac.com
SUMMARY:CyclAbility - Oxford
DESCRIPTION:We provide inclusive\, adult (16+) cycling facilities in a safe and supportive environment in Oxford. We have qualified cycling instructors to help you get started; adaptive cycling experts to give advice; mechanics to troubleshoot issues and amazing volunteers to support you.
URL:https://oxfordcityac.com/event/cyclability-oxford-97/
LOCATION:Horspath Athletics Track\, Horspath Athletics Track\, Oxford\, Oxfordshire\, OX4 2RR\, United Kingdom
CATEGORIES:External Booking
END:VEVENT
END:VCALENDAR