BEGIN:VCALENDAR
VERSION:2.0
PRODID:-//Oxford City Athletic Club - ECPv6.15.20//NONSGML v1.0//EN
CALSCALE:GREGORIAN
METHOD:PUBLISH
X-WR-CALNAME:Oxford City Athletic Club
X-ORIGINAL-URL:https://oxfordcityac.com
X-WR-CALDESC:Events for Oxford City Athletic Club
REFRESH-INTERVAL;VALUE=DURATION:PT1H
X-Robots-Tag:noindex
X-PUBLISHED-TTL:PT1H
BEGIN:VTIMEZONE
TZID:Europe/London
BEGIN:DAYLIGHT
TZOFFSETFROM:+0000
TZOFFSETTO:+0100
TZNAME:BST
DTSTART:20250330T010000
END:DAYLIGHT
BEGIN:STANDARD
TZOFFSETFROM:+0100
TZOFFSETTO:+0000
TZNAME:GMT
DTSTART:20251026T010000
END:STANDARD
BEGIN:DAYLIGHT
TZOFFSETFROM:+0000
TZOFFSETTO:+0100
TZNAME:BST
DTSTART:20260329T010000
END:DAYLIGHT
BEGIN:STANDARD
TZOFFSETFROM:+0100
TZOFFSETTO:+0000
TZNAME:GMT
DTSTART:20261025T010000
END:STANDARD
BEGIN:DAYLIGHT
TZOFFSETFROM:+0000
TZOFFSETTO:+0100
TZNAME:BST
DTSTART:20270328T010000
END:DAYLIGHT
BEGIN:STANDARD
TZOFFSETFROM:+0100
TZOFFSETTO:+0000
TZNAME:GMT
DTSTART:20271031T010000
END:STANDARD
END:VTIMEZONE
BEGIN:VEVENT
DTSTART;TZID=Europe/London:20260331T093000
DTEND;TZID=Europe/London:20260331T120000
DTSTAMP:20260423T024439
CREATED:20260131T103307Z
LAST-MODIFIED:20260320T150324Z
UID:8829-1774949400-1774958400@oxfordcityac.com
SUMMARY:CyclAbility - Oxford
DESCRIPTION:We provide inclusive\, adult (16+) cycling facilities in a safe and supportive environment in Oxford. We have qualified cycling instructors to help you get started; adaptive cycling experts to give advice; mechanics to troubleshoot issues and amazing volunteers to support you.
URL:https://oxfordcityac.com/event/cyclability-oxford-14/
LOCATION:Horspath Athletics Track\, Horspath Athletics Track\, Oxford\, Oxfordshire\, OX4 2RR\, United Kingdom
CATEGORIES:External Booking
END:VEVENT
BEGIN:VEVENT
DTSTART;TZID=Europe/London:20260328T100000
DTEND;TZID=Europe/London:20260328T113000
DTSTAMP:20260423T024439
CREATED:20260228T092220Z
LAST-MODIFIED:20260228T092409Z
UID:9209-1774692000-1774697400@oxfordcityac.com
SUMMARY:Cross Country - End of Season Awards
DESCRIPTION:This event will start at around 10.15\, but all are strongly encouraged to join the Horspath parkun that starts at 9am. \nDepending on the weather\, we’ll present the awards either on the balcony or in the stand.  \nThis isn’t a ticketed event.
URL:https://oxfordcityac.com/event/cross-country-end-of-season-celebration/
LOCATION:Horspath Athletics Track\, Horspath Athletics Track\, Oxford\, Oxfordshire\, OX4 2RR\, United Kingdom
CATEGORIES:Cross Country (Home)
END:VEVENT
BEGIN:VEVENT
DTSTART;TZID=Europe/London:20260327T093000
DTEND;TZID=Europe/London:20260327T123000
DTSTAMP:20260423T024439
CREATED:20260131T103933Z
LAST-MODIFIED:20260320T145912Z
UID:8875-1774603800-1774614600@oxfordcityac.com
SUMMARY:CyclAbility - Oxford
DESCRIPTION:We provide inclusive\, adult (16+) cycling facilities in a safe and supportive environment in Oxford. We have qualified cycling instructors to help you get started; adaptive cycling experts to give advice; mechanics to troubleshoot issues and amazing volunteers to support you.
URL:https://oxfordcityac.com/event/cyclability-oxford-57/
LOCATION:Horspath Athletics Track\, Horspath Athletics Track\, Oxford\, Oxfordshire\, OX4 2RR\, United Kingdom
CATEGORIES:External Booking
END:VEVENT
BEGIN:VEVENT
DTSTART;TZID=Europe/London:20260324T093000
DTEND;TZID=Europe/London:20260324T120000
DTSTAMP:20260423T024439
CREATED:20260131T103307Z
LAST-MODIFIED:20260320T150316Z
UID:8828-1774344600-1774353600@oxfordcityac.com
SUMMARY:CyclAbility - Oxford
DESCRIPTION:We provide inclusive\, adult (16+) cycling facilities in a safe and supportive environment in Oxford. We have qualified cycling instructors to help you get started; adaptive cycling experts to give advice; mechanics to troubleshoot issues and amazing volunteers to support you.
URL:https://oxfordcityac.com/event/cyclability-oxford-13/
LOCATION:Horspath Athletics Track\, Horspath Athletics Track\, Oxford\, Oxfordshire\, OX4 2RR\, United Kingdom
CATEGORIES:External Booking
END:VEVENT
BEGIN:VEVENT
DTSTART;TZID=Europe/London:20260321T090000
DTEND;TZID=Europe/London:20260321T113000
DTSTAMP:20260423T024439
CREATED:20260228T091436Z
LAST-MODIFIED:20260228T091436Z
UID:9206-1774083600-1774092600@oxfordcityac.com
SUMMARY:Spring Club Cleanup
DESCRIPTION:An annual event\, to prepare the Club for the summer season
URL:https://oxfordcityac.com/event/spring-club-cleanup/
LOCATION:Horspath Athletics Track\, Horspath Athletics Track\, Oxford\, Oxfordshire\, OX4 2RR\, United Kingdom
CATEGORIES:Club Match (Home)
END:VEVENT
BEGIN:VEVENT
DTSTART;TZID=Europe/London:20260320T093000
DTEND;TZID=Europe/London:20260320T123000
DTSTAMP:20260423T024439
CREATED:20260131T103933Z
LAST-MODIFIED:20260320T145912Z
UID:8874-1773999000-1774009800@oxfordcityac.com
SUMMARY:CyclAbility - Oxford
DESCRIPTION:We provide inclusive\, adult (16+) cycling facilities in a safe and supportive environment in Oxford. We have qualified cycling instructors to help you get started; adaptive cycling experts to give advice; mechanics to troubleshoot issues and amazing volunteers to support you.
URL:https://oxfordcityac.com/event/cyclability-oxford-56/
LOCATION:Horspath Athletics Track\, Horspath Athletics Track\, Oxford\, Oxfordshire\, OX4 2RR\, United Kingdom
CATEGORIES:External Booking
END:VEVENT
BEGIN:VEVENT
DTSTART;TZID=Europe/London:20260319T190000
DTEND;TZID=Europe/London:20260319T220000
DTSTAMP:20260423T024439
CREATED:20260220T150314Z
LAST-MODIFIED:20260220T153725Z
UID:9177-1773946800-1773957600@oxfordcityac.com
SUMMARY:Oxford Tri (Using Club House Only)
DESCRIPTION:
URL:https://oxfordcityac.com/event/oxford-tri-club-house-only/
LOCATION:Horspath Athletics Track\, Horspath Athletics Track\, Oxford\, Oxfordshire\, OX4 2RR\, United Kingdom
CATEGORIES:External Booking
END:VEVENT
BEGIN:VEVENT
DTSTART;TZID=Europe/London:20260317T093000
DTEND;TZID=Europe/London:20260317T120000
DTSTAMP:20260423T024439
CREATED:20260131T103307Z
LAST-MODIFIED:20260320T150308Z
UID:8827-1773739800-1773748800@oxfordcityac.com
SUMMARY:CyclAbility - Oxford
DESCRIPTION:We provide inclusive\, adult (16+) cycling facilities in a safe and supportive environment in Oxford. We have qualified cycling instructors to help you get started; adaptive cycling experts to give advice; mechanics to troubleshoot issues and amazing volunteers to support you.
URL:https://oxfordcityac.com/event/cyclability-oxford-12/
LOCATION:Horspath Athletics Track\, Horspath Athletics Track\, Oxford\, Oxfordshire\, OX4 2RR\, United Kingdom
CATEGORIES:External Booking
END:VEVENT
BEGIN:VEVENT
DTSTART;TZID=Europe/London:20260313T093000
DTEND;TZID=Europe/London:20260313T123000
DTSTAMP:20260423T024439
CREATED:20260131T103933Z
LAST-MODIFIED:20260320T150653Z
UID:8873-1773394200-1773405000@oxfordcityac.com
SUMMARY:CyclAbility - Oxford
DESCRIPTION:We provide inclusive\, adult (16+) cycling facilities in a safe and supportive environment in Oxford. We have qualified cycling instructors to help you get started; adaptive cycling experts to give advice; mechanics to troubleshoot issues and amazing volunteers to support you.
URL:https://oxfordcityac.com/event/cyclability-oxford-55/
LOCATION:Horspath Athletics Track\, Horspath Athletics Track\, Oxford\, Oxfordshire\, OX4 2RR\, United Kingdom
CATEGORIES:External Booking
END:VEVENT
BEGIN:VEVENT
DTSTART;TZID=Europe/London:20260310T093000
DTEND;TZID=Europe/London:20260310T120000
DTSTAMP:20260423T024439
CREATED:20260131T103307Z
LAST-MODIFIED:20260320T150253Z
UID:8826-1773135000-1773144000@oxfordcityac.com
SUMMARY:CyclAbility - Oxford
DESCRIPTION:We provide inclusive\, adult (16+) cycling facilities in a safe and supportive environment in Oxford. We have qualified cycling instructors to help you get started; adaptive cycling experts to give advice; mechanics to troubleshoot issues and amazing volunteers to support you.
URL:https://oxfordcityac.com/event/cyclability-oxford-11/
LOCATION:Horspath Athletics Track\, Horspath Athletics Track\, Oxford\, Oxfordshire\, OX4 2RR\, United Kingdom
CATEGORIES:External Booking
END:VEVENT
BEGIN:VEVENT
DTSTART;TZID=Europe/London:20260308T100000
DTEND;TZID=Europe/London:20260308T180000
DTSTAMP:20260423T024439
CREATED:20251219T135923Z
LAST-MODIFIED:20260210T120300Z
UID:8482-1772964000-1772992800@oxfordcityac.com
SUMMARY:BMAF Winter Throws Competition
DESCRIPTION:
URL:https://oxfordcityac.com/event/bmaf-winter-throws-competition/
LOCATION:Horspath Athletics Track\, Horspath Athletics Track\, Oxford\, Oxfordshire\, OX4 2RR\, United Kingdom
CATEGORIES:External Booking
END:VEVENT
BEGIN:VEVENT
DTSTART;TZID=Europe/London:20260307T100000
DTEND;TZID=Europe/London:20260307T180000
DTSTAMP:20260423T024439
CREATED:20251219T135923Z
LAST-MODIFIED:20260210T120242Z
UID:8483-1772877600-1772906400@oxfordcityac.com
SUMMARY:BMAF Winter Throws Competition
DESCRIPTION:
URL:https://oxfordcityac.com/event/bmaf-winter-throws-competition-2/
LOCATION:Horspath Athletics Track\, Horspath Athletics Track\, Oxford\, Oxfordshire\, OX4 2RR\, United Kingdom
CATEGORIES:External Booking
END:VEVENT
BEGIN:VEVENT
DTSTART;TZID=Europe/London:20260306T093000
DTEND;TZID=Europe/London:20260306T123000
DTSTAMP:20260423T024439
CREATED:20260131T103933Z
LAST-MODIFIED:20260320T150653Z
UID:8872-1772789400-1772800200@oxfordcityac.com
SUMMARY:CyclAbility - Oxford
DESCRIPTION:We provide inclusive\, adult (16+) cycling facilities in a safe and supportive environment in Oxford. We have qualified cycling instructors to help you get started; adaptive cycling experts to give advice; mechanics to troubleshoot issues and amazing volunteers to support you.
URL:https://oxfordcityac.com/event/cyclability-oxford-54/
LOCATION:Horspath Athletics Track\, Horspath Athletics Track\, Oxford\, Oxfordshire\, OX4 2RR\, United Kingdom
CATEGORIES:External Booking
END:VEVENT
BEGIN:VEVENT
DTSTART;TZID=Europe/London:20260303T093000
DTEND;TZID=Europe/London:20260303T120000
DTSTAMP:20260423T024439
CREATED:20260131T103307Z
LAST-MODIFIED:20260320T150239Z
UID:8825-1772530200-1772539200@oxfordcityac.com
SUMMARY:CyclAbility - Oxford
DESCRIPTION:We provide inclusive\, adult (16+) cycling facilities in a safe and supportive environment in Oxford. We have qualified cycling instructors to help you get started; adaptive cycling experts to give advice; mechanics to troubleshoot issues and amazing volunteers to support you.
URL:https://oxfordcityac.com/event/cyclability-oxford-10/
LOCATION:Horspath Athletics Track\, Horspath Athletics Track\, Oxford\, Oxfordshire\, OX4 2RR\, United Kingdom
CATEGORIES:External Booking
END:VEVENT
BEGIN:VEVENT
DTSTART;TZID=Europe/London:20260301T093000
DTEND;TZID=Europe/London:20260301T123000
DTSTAMP:20260423T024439
CREATED:20251129T165932Z
LAST-MODIFIED:20260228T091047Z
UID:8369-1772357400-1772368200@oxfordcityac.com
SUMMARY:Oxfordshire Cross Country League – Match 5
DESCRIPTION:
URL:https://oxfordcityac.com/event/oxfordshire-cross-country-league-match-5/
LOCATION:Near Finmere\, MK18 4AG\, United Kingdom
CATEGORIES:Cross Country (Away)
END:VEVENT
BEGIN:VEVENT
DTSTART;TZID=Europe/London:20260227T093000
DTEND;TZID=Europe/London:20260227T123000
DTSTAMP:20260423T024439
CREATED:20260131T101853Z
LAST-MODIFIED:20260131T103105Z
UID:8818-1772184600-1772195400@oxfordcityac.com
SUMMARY:CyclAbility - Oxford
DESCRIPTION:We provide inclusive\, adult (16+) cycling facilities in a safe and supportive environment in Oxford. We have qualified cycling instructors to help you get started; adaptive cycling experts to give advice; mechanics to troubleshoot issues and amazing volunteers to support you.
URL:https://oxfordcityac.com/event/cyclability-oxford-9/
LOCATION:Horspath Athletics Track\, Horspath Athletics Track\, Oxford\, Oxfordshire\, OX4 2RR\, United Kingdom
CATEGORIES:External Booking
END:VEVENT
BEGIN:VEVENT
DTSTART;TZID=Europe/London:20260225T140000
DTEND;TZID=Europe/London:20260225T160000
DTSTAMP:20260423T024439
CREATED:20260131T110719Z
LAST-MODIFIED:20260131T110746Z
UID:8918-1772028000-1772035200@oxfordcityac.com
SUMMARY:The King’s School Witney
DESCRIPTION:
URL:https://oxfordcityac.com/event/the-kings-school-witney-3/
LOCATION:Horspath Athletics Track\, Horspath Athletics Track\, Oxford\, Oxfordshire\, OX4 2RR\, United Kingdom
CATEGORIES:External Booking
END:VEVENT
BEGIN:VEVENT
DTSTART;TZID=Europe/London:20260224T093000
DTEND;TZID=Europe/London:20260224T120000
DTSTAMP:20260423T024439
CREATED:20260131T101852Z
LAST-MODIFIED:20260320T150227Z
UID:8814-1771925400-1771934400@oxfordcityac.com
SUMMARY:CyclAbility - Oxford
DESCRIPTION:We provide inclusive\, adult (16+) cycling facilities in a safe and supportive environment in Oxford. We have qualified cycling instructors to help you get started; adaptive cycling experts to give advice; mechanics to troubleshoot issues and amazing volunteers to support you.
URL:https://oxfordcityac.com/event/cyclability-oxford-5/
LOCATION:Horspath Athletics Track\, Horspath Athletics Track\, Oxford\, Oxfordshire\, OX4 2RR\, United Kingdom
CATEGORIES:External Booking
END:VEVENT
BEGIN:VEVENT
DTSTART;TZID=Europe/London:20260220T093000
DTEND;TZID=Europe/London:20260220T123000
DTSTAMP:20260423T024439
CREATED:20260131T101852Z
LAST-MODIFIED:20260131T102518Z
UID:8817-1771579800-1771590600@oxfordcityac.com
SUMMARY:CyclAbility - Oxford
DESCRIPTION:We provide inclusive\, adult (16+) cycling facilities in a safe and supportive environment in Oxford. We have qualified cycling instructors to help you get started; adaptive cycling experts to give advice; mechanics to troubleshoot issues and amazing volunteers to support you.
URL:https://oxfordcityac.com/event/cyclability-oxford-8/
LOCATION:Horspath Athletics Track\, Horspath Athletics Track\, Oxford\, Oxfordshire\, OX4 2RR\, United Kingdom
CATEGORIES:External Booking
END:VEVENT
BEGIN:VEVENT
DTSTART;TZID=Europe/London:20260217T100000
DTEND;TZID=Europe/London:20260217T120000
DTSTAMP:20260423T024439
CREATED:20260131T101852Z
LAST-MODIFIED:20260131T101852Z
UID:8813-1771322400-1771329600@oxfordcityac.com
SUMMARY:CyclAbility - Oxford
DESCRIPTION:We provide inclusive\, adult (16+) cycling facilities in a safe and supportive environment in Oxford. We have qualified cycling instructors to help you get started; adaptive cycling experts to give advice; mechanics to troubleshoot issues and amazing volunteers to support you.
URL:https://oxfordcityac.com/event/cyclability-oxford-4/
LOCATION:Horspath Athletics Track\, Horspath Athletics Track\, Oxford\, Oxfordshire\, OX4 2RR\, United Kingdom
CATEGORIES:External Booking
END:VEVENT
BEGIN:VEVENT
DTSTART;TZID=Europe/London:20260213T093000
DTEND;TZID=Europe/London:20260213T123000
DTSTAMP:20260423T024439
CREATED:20260131T101852Z
LAST-MODIFIED:20260131T102506Z
UID:8816-1770975000-1770985800@oxfordcityac.com
SUMMARY:CyclAbility - Oxford
DESCRIPTION:We provide inclusive\, adult (16+) cycling facilities in a safe and supportive environment in Oxford. We have qualified cycling instructors to help you get started; adaptive cycling experts to give advice; mechanics to troubleshoot issues and amazing volunteers to support you.
URL:https://oxfordcityac.com/event/cyclability-oxford-7/
LOCATION:Horspath Athletics Track\, Horspath Athletics Track\, Oxford\, Oxfordshire\, OX4 2RR\, United Kingdom
CATEGORIES:External Booking
END:VEVENT
BEGIN:VEVENT
DTSTART;TZID=Europe/London:20260210T100000
DTEND;TZID=Europe/London:20260210T120000
DTSTAMP:20260423T024439
CREATED:20260131T101851Z
LAST-MODIFIED:20260131T101851Z
UID:8812-1770717600-1770724800@oxfordcityac.com
SUMMARY:CyclAbility - Oxford
DESCRIPTION:We provide inclusive\, adult (16+) cycling facilities in a safe and supportive environment in Oxford. We have qualified cycling instructors to help you get started; adaptive cycling experts to give advice; mechanics to troubleshoot issues and amazing volunteers to support you.
URL:https://oxfordcityac.com/event/cyclability-oxford-3/
LOCATION:Horspath Athletics Track\, Horspath Athletics Track\, Oxford\, Oxfordshire\, OX4 2RR\, United Kingdom
CATEGORIES:External Booking
END:VEVENT
BEGIN:VEVENT
DTSTART;VALUE=DATE:20260207
DTEND;VALUE=DATE:20260208
DTSTAMP:20260423T024439
CREATED:20251128T212919Z
LAST-MODIFIED:20260131T181454Z
UID:8336-1770422400-1770508799@oxfordcityac.com
SUMMARY:Chiltern Cross Country League - Match 5
DESCRIPTION:Date: Saturday 7th February 2026 \nLocation: Stopsley Common\, Luton \nTimetable: \nPlease note that this follows the standard league timetable \n\n11.30 Under 11 Girls\n11.45 Under 11 Boys\n12.00 Under 13 Girls\n12.15 Under 13 Boys\n12.30 Under 15 Girls\n12.45 Under 15 Boys\n13.00 Under 17 & 20 Women\n13.15 Senior Women\n13.40 Under 17 Men\n14.00 Under 20 & Senior Men\n\nIn past seasons the last 3 races have been reordered in order to facilitate the calculation of results ahead of the awards ceremony\, but this will not be the case for the 2025/26 season. \nNotes: \nChoice of running shoes \nThe course is mainly on grass and is suitable for spikes. \nReturning trophies \nPlease remember to bring along any trophies that your clubs won last year for this year’s presentations.  We would also be extremely grateful if you return any lost trophies from previous years if you have been able to track these down.  Please deposit these with one of the officials or committee members as soon as practical on the day at the pavilion closest to the finish area. \nAward ceremonies \nThere will be three award ceremonies as follows which will take place outside the pavilion closest to the finish area. \n\nU11 and U13: 13.00pm\nU15 and U17/U20 women: 14.00pm\nU17/U20 men\, senior women. Senior men: 15.30pm\n\n  \nPlease make sure there is a representative from your club present to collect any team trophies and awards for athletes who are not able to make the ceremony.  We regret that we will not be able to post out any uncollected awards\, meaning that clubs/athletes will have to wait until the new season starts in October to receive them. \nReplacement numbers \nIn order to support with finalising the results\, if there are any number replacements for people likely to be in the running for individual awards\, could team managers please update the portal by 6pm BEFORE race day.  If this is not possible then please get a message to the results coordinator (Richard Pownall) in person who will be based in the pavilion closest to the finish area\, or via email at results@chilternccl.co.uk This should be done asap but absolutely no later than 30 minutes before the start of the relevant race. If the athlete is not in the running for medals\, then the usual 6pm deadline on race day is fine.
URL:https://oxfordcityac.com/event/chiltern-cross-country-league-match-5/
LOCATION:Stopsley Park\, Luton\, Stopsley Park\, Luton\, LU2 7XP\, United Kingdom
CATEGORIES:Cross Country (Away)
END:VEVENT
BEGIN:VEVENT
DTSTART;TZID=Europe/London:20260206T093000
DTEND;TZID=Europe/London:20260206T123000
DTSTAMP:20260423T024439
CREATED:20260131T101852Z
LAST-MODIFIED:20260131T102339Z
UID:8815-1770370200-1770381000@oxfordcityac.com
SUMMARY:CyclAbility - Oxford
DESCRIPTION:We provide inclusive\, adult (16+) cycling facilities in a safe and supportive environment in Oxford. We have qualified cycling instructors to help you get started; adaptive cycling experts to give advice; mechanics to troubleshoot issues and amazing volunteers to support you.
URL:https://oxfordcityac.com/event/cyclability-oxford-6/
LOCATION:Horspath Athletics Track\, Horspath Athletics Track\, Oxford\, Oxfordshire\, OX4 2RR\, United Kingdom
CATEGORIES:External Booking
END:VEVENT
BEGIN:VEVENT
DTSTART;TZID=Europe/London:20260204T090000
DTEND;TZID=Europe/London:20260204T110000
DTSTAMP:20260423T024439
CREATED:20260131T110640Z
LAST-MODIFIED:20260131T110806Z
UID:8916-1770195600-1770202800@oxfordcityac.com
SUMMARY:The King’s School Witney
DESCRIPTION:
URL:https://oxfordcityac.com/event/the-kings-school-witney-2/
LOCATION:Horspath Athletics Track\, Horspath Athletics Track\, Oxford\, Oxfordshire\, OX4 2RR\, United Kingdom
CATEGORIES:External Booking
END:VEVENT
BEGIN:VEVENT
DTSTART;TZID=Europe/London:20260203T100000
DTEND;TZID=Europe/London:20260203T120000
DTSTAMP:20260423T024439
CREATED:20260131T101851Z
LAST-MODIFIED:20260131T101851Z
UID:8811-1770112800-1770120000@oxfordcityac.com
SUMMARY:CyclAbility - Oxford
DESCRIPTION:We provide inclusive\, adult (16+) cycling facilities in a safe and supportive environment in Oxford. We have qualified cycling instructors to help you get started; adaptive cycling experts to give advice; mechanics to troubleshoot issues and amazing volunteers to support you.
URL:https://oxfordcityac.com/event/cyclability-oxford-2/
LOCATION:Horspath Athletics Track\, Horspath Athletics Track\, Oxford\, Oxfordshire\, OX4 2RR\, United Kingdom
CATEGORIES:External Booking
END:VEVENT
BEGIN:VEVENT
DTSTART;VALUE=DATE:20260201
DTEND;VALUE=DATE:20260202
DTSTAMP:20260423T024439
CREATED:20251129T144040Z
LAST-MODIFIED:20260131T181348Z
UID:8365-1769904000-1769990399@oxfordcityac.com
SUMMARY:Oxfordshire Cross Country League - Match 4
DESCRIPTION:Round 4 Fixture Info & Course Maps \nA big thanks to Witney Roadrunners who are hosting Round 4 again this year. Here are the key reminders: \n\nThe club tents and start area are 600+ metres from the parking\nThere are no toilets at the start – use the ones outside the café\nParking is limited so please car share wherever possible\nPlease support the café facilities (but do not enter with spikes or muddy footwear)\nNo dogs allowed\n\nFull fixture info is available here: https://oxonxc.org.uk/events/index.php?viewevent=1874
URL:https://oxfordcityac.com/event/oxfordshire-cross-country-league-match-4/
LOCATION:Cotswold Farm Park\, Gloucestershire\, Cotswold Farm Park\, Cheltenham\, GL54 5FL\, United Kingdom
CATEGORIES:Cross Country (Away)
END:VEVENT
BEGIN:VEVENT
DTSTART;TZID=Europe/London:20260129T103000
DTEND;TZID=Europe/London:20260129T130000
DTSTAMP:20260423T024439
CREATED:20251219T135923Z
LAST-MODIFIED:20260111T102316Z
UID:8481-1769682600-1769691600@oxfordcityac.com
SUMMARY:Whitelands Academy\, Bicester
DESCRIPTION:
URL:https://oxfordcityac.com/event/whitelands-academy-bicester/
LOCATION:Horspath Athletics Track\, Horspath Athletics Track\, Oxford\, Oxfordshire\, OX4 2RR\, United Kingdom
CATEGORIES:External Booking
END:VEVENT
BEGIN:VEVENT
DTSTART;TZID=Europe/London:20260113T093000
DTEND;TZID=Europe/London:20260113T140000
DTSTAMP:20260423T024439
CREATED:20260112T221651Z
LAST-MODIFIED:20260112T222016Z
UID:8739-1768296600-1768312800@oxfordcityac.com
SUMMARY:CyclAbility - Oxford
DESCRIPTION:We provide inclusive\, adult (16+) cycling facilities in a safe and supportive environment in Oxford. We have qualified cycling instructors to help you get started; adaptive cycling experts to give advice; mechanics to troubleshoot issues and amazing volunteers to support you.
URL:https://oxfordcityac.com/event/cyclability-oxford/
LOCATION:Horspath Athletics Track\, Horspath Athletics Track\, Oxford\, Oxfordshire\, OX4 2RR\, United Kingdom
CATEGORIES:External Booking
END:VEVENT
BEGIN:VEVENT
DTSTART;VALUE=DATE:20260110
DTEND;VALUE=DATE:20260111
DTSTAMP:20260423T024439
CREATED:20251128T181028Z
LAST-MODIFIED:20251130T081735Z
UID:8291-1768003200-1768089599@oxfordcityac.com
SUMMARY:Chiltern Cross Country League - Match 4
DESCRIPTION:
URL:https://oxfordcityac.com/event/chiltern-cross-country-league-match-4/
LOCATION:Cassiobury Park\, Watford\, Cassiobury Park\, Watford\, WD18 7LG\, United Kingdom
CATEGORIES:Cross Country (Away)
END:VEVENT
END:VCALENDAR