BEGIN:VCALENDAR
VERSION:2.0
PRODID:-//Oxford City Athletic Club - ECPv6.15.20//NONSGML v1.0//EN
CALSCALE:GREGORIAN
METHOD:PUBLISH
X-WR-CALNAME:Oxford City Athletic Club
X-ORIGINAL-URL:https://oxfordcityac.com
X-WR-CALDESC:Events for Oxford City Athletic Club
REFRESH-INTERVAL;VALUE=DURATION:PT1H
X-Robots-Tag:noindex
X-PUBLISHED-TTL:PT1H
BEGIN:VTIMEZONE
TZID:Europe/London
BEGIN:DAYLIGHT
TZOFFSETFROM:+0000
TZOFFSETTO:+0100
TZNAME:BST
DTSTART:20250330T010000
END:DAYLIGHT
BEGIN:STANDARD
TZOFFSETFROM:+0100
TZOFFSETTO:+0000
TZNAME:GMT
DTSTART:20251026T010000
END:STANDARD
BEGIN:DAYLIGHT
TZOFFSETFROM:+0000
TZOFFSETTO:+0100
TZNAME:BST
DTSTART:20260329T010000
END:DAYLIGHT
BEGIN:STANDARD
TZOFFSETFROM:+0100
TZOFFSETTO:+0000
TZNAME:GMT
DTSTART:20261025T010000
END:STANDARD
BEGIN:DAYLIGHT
TZOFFSETFROM:+0000
TZOFFSETTO:+0100
TZNAME:BST
DTSTART:20270328T010000
END:DAYLIGHT
BEGIN:STANDARD
TZOFFSETFROM:+0100
TZOFFSETTO:+0000
TZNAME:GMT
DTSTART:20271031T010000
END:STANDARD
END:VTIMEZONE
BEGIN:VEVENT
DTSTART;TZID=Europe/London:20260602T093000
DTEND;TZID=Europe/London:20260602T120000
DTSTAMP:20260422T230944
CREATED:20260131T103323Z
LAST-MODIFIED:20260320T144258Z
UID:8838-1780392600-1780401600@oxfordcityac.com
SUMMARY:CyclAbility - Oxford
DESCRIPTION:We provide inclusive\, adult (16+) cycling facilities in a safe and supportive environment in Oxford. We have qualified cycling instructors to help you get started; adaptive cycling experts to give advice; mechanics to troubleshoot issues and amazing volunteers to support you.
URL:https://oxfordcityac.com/event/cyclability-oxford-23/
LOCATION:Horspath Athletics Track\, Horspath Athletics Track\, Oxford\, Oxfordshire\, OX4 2RR\, United Kingdom
CATEGORIES:External Booking
END:VEVENT
BEGIN:VEVENT
DTSTART;TZID=Europe/London:20260603T090000
DTEND;TZID=Europe/London:20260603T123000
DTSTAMP:20260422T230944
CREATED:20251219T135939Z
LAST-MODIFIED:20260131T104719Z
UID:8491-1780477200-1780489800@oxfordcityac.com
SUMMARY:Oxford City Primary Schools QuadKids Competition
DESCRIPTION:
URL:https://oxfordcityac.com/event/oxford-city-primary-schools-quadkids-competition/
LOCATION:Horspath Athletics Track\, Horspath Athletics Track\, Oxford\, Oxfordshire\, OX4 2RR\, United Kingdom
CATEGORIES:External Booking
END:VEVENT
BEGIN:VEVENT
DTSTART;TZID=Europe/London:20260605T093000
DTEND;TZID=Europe/London:20260605T130000
DTSTAMP:20260422T230944
CREATED:20260131T103950Z
LAST-MODIFIED:20260320T144258Z
UID:8885-1780651800-1780664400@oxfordcityac.com
SUMMARY:CyclAbility - Oxford
DESCRIPTION:We provide inclusive\, adult (16+) cycling facilities in a safe and supportive environment in Oxford. We have qualified cycling instructors to help you get started; adaptive cycling experts to give advice; mechanics to troubleshoot issues and amazing volunteers to support you.
URL:https://oxfordcityac.com/event/cyclability-oxford-67/
LOCATION:Horspath Athletics Track\, Horspath Athletics Track\, Oxford\, Oxfordshire\, OX4 2RR\, United Kingdom
CATEGORIES:External Booking
END:VEVENT
BEGIN:VEVENT
DTSTART;TZID=Europe/London:20260606T090000
DTEND;TZID=Europe/London:20260606T180000
DTSTAMP:20260422T230944
CREATED:20260220T151526Z
LAST-MODIFIED:20260220T151526Z
UID:9184-1780736400-1780768800@oxfordcityac.com
SUMMARY:Oxford Malayali Samajam
DESCRIPTION:
URL:https://oxfordcityac.com/event/oxford-malayali-samajam/
LOCATION:Horspath Athletics Track\, Horspath Athletics Track\, Oxford\, Oxfordshire\, OX4 2RR\, United Kingdom
CATEGORIES:External Booking
END:VEVENT
BEGIN:VEVENT
DTSTART;TZID=Europe/London:20260609T093000
DTEND;TZID=Europe/London:20260609T120000
DTSTAMP:20260422T230944
CREATED:20260131T103323Z
LAST-MODIFIED:20260320T144258Z
UID:8839-1780997400-1781006400@oxfordcityac.com
SUMMARY:CyclAbility - Oxford
DESCRIPTION:We provide inclusive\, adult (16+) cycling facilities in a safe and supportive environment in Oxford. We have qualified cycling instructors to help you get started; adaptive cycling experts to give advice; mechanics to troubleshoot issues and amazing volunteers to support you.
URL:https://oxfordcityac.com/event/cyclability-oxford-24/
LOCATION:Horspath Athletics Track\, Horspath Athletics Track\, Oxford\, Oxfordshire\, OX4 2RR\, United Kingdom
CATEGORIES:External Booking
END:VEVENT
BEGIN:VEVENT
DTSTART;VALUE=DATE:20260610
DTEND;VALUE=DATE:20260611
DTSTAMP:20260422T230944
CREATED:20251219T135939Z
LAST-MODIFIED:20260220T145846Z
UID:8492-1781049600-1781135999@oxfordcityac.com
SUMMARY:The Haberdasher Company
DESCRIPTION:
URL:https://oxfordcityac.com/event/the-haberdasher-company/
LOCATION:TBC – Horspath Athletics Track\, Horspath Athletics Track\, Oxford\, Oxfordshire\, OX4 2RR\, United Kingdom
CATEGORIES:External Booking
END:VEVENT
BEGIN:VEVENT
DTSTART;TZID=Europe/London:20260611T093000
DTEND;TZID=Europe/London:20260611T120000
DTSTAMP:20260422T230944
CREATED:20251219T135939Z
LAST-MODIFIED:20260131T104732Z
UID:8493-1781170200-1781179200@oxfordcityac.com
SUMMARY:Church Cowley St James CofE Primary School
DESCRIPTION:
URL:https://oxfordcityac.com/event/church-cowley-st-james-cofe-primary-school/
LOCATION:Horspath Athletics Track\, Horspath Athletics Track\, Oxford\, Oxfordshire\, OX4 2RR\, United Kingdom
CATEGORIES:External Booking
END:VEVENT
BEGIN:VEVENT
DTSTART;TZID=Europe/London:20260612T093000
DTEND;TZID=Europe/London:20260612T130000
DTSTAMP:20260422T230944
CREATED:20260131T103950Z
LAST-MODIFIED:20260320T144306Z
UID:8886-1781256600-1781269200@oxfordcityac.com
SUMMARY:CyclAbility - Oxford
DESCRIPTION:We provide inclusive\, adult (16+) cycling facilities in a safe and supportive environment in Oxford. We have qualified cycling instructors to help you get started; adaptive cycling experts to give advice; mechanics to troubleshoot issues and amazing volunteers to support you.
URL:https://oxfordcityac.com/event/cyclability-oxford-68/
LOCATION:Horspath Athletics Track\, Horspath Athletics Track\, Oxford\, Oxfordshire\, OX4 2RR\, United Kingdom
CATEGORIES:External Booking
END:VEVENT
BEGIN:VEVENT
DTSTART;TZID=Europe/London:20260616T093000
DTEND;TZID=Europe/London:20260616T120000
DTSTAMP:20260422T230944
CREATED:20260131T103346Z
LAST-MODIFIED:20260320T144306Z
UID:8840-1781602200-1781611200@oxfordcityac.com
SUMMARY:CyclAbility - Oxford
DESCRIPTION:We provide inclusive\, adult (16+) cycling facilities in a safe and supportive environment in Oxford. We have qualified cycling instructors to help you get started; adaptive cycling experts to give advice; mechanics to troubleshoot issues and amazing volunteers to support you.
URL:https://oxfordcityac.com/event/cyclability-oxford-25/
LOCATION:Horspath Athletics Track\, Horspath Athletics Track\, Oxford\, Oxfordshire\, OX4 2RR\, United Kingdom
CATEGORIES:External Booking
END:VEVENT
BEGIN:VEVENT
DTSTART;TZID=Europe/London:20260617T093000
DTEND;TZID=Europe/London:20260617T143000
DTSTAMP:20260422T230944
CREATED:20251219T135939Z
LAST-MODIFIED:20260131T104841Z
UID:8494-1781688600-1781706600@oxfordcityac.com
SUMMARY:Oxfordshire Schools Athletics Association - Bartholomew Sports day
DESCRIPTION:
URL:https://oxfordcityac.com/event/oxfordshire-schools-athletics-association-bartholomew-sports-day/
LOCATION:Horspath Athletics Track\, Horspath Athletics Track\, Oxford\, Oxfordshire\, OX4 2RR\, United Kingdom
CATEGORIES:External Booking
END:VEVENT
BEGIN:VEVENT
DTSTART;VALUE=DATE:20260618
DTEND;VALUE=DATE:20260619
DTSTAMP:20260422T230944
CREATED:20251219T135939Z
LAST-MODIFIED:20260131T104833Z
UID:8495-1781740800-1781827199@oxfordcityac.com
SUMMARY:The Haberdasher Company
DESCRIPTION:
URL:https://oxfordcityac.com/event/the-haberdasher-company-2/
LOCATION:TBC – Horspath Athletics Track\, Horspath Athletics Track\, Oxford\, Oxfordshire\, OX4 2RR\, United Kingdom
CATEGORIES:External Booking
END:VEVENT
BEGIN:VEVENT
DTSTART;TZID=Europe/London:20260619T093000
DTEND;TZID=Europe/London:20260619T130000
DTSTAMP:20260422T230944
CREATED:20260131T104019Z
LAST-MODIFIED:20260320T144306Z
UID:8887-1781861400-1781874000@oxfordcityac.com
SUMMARY:CyclAbility - Oxford
DESCRIPTION:We provide inclusive\, adult (16+) cycling facilities in a safe and supportive environment in Oxford. We have qualified cycling instructors to help you get started; adaptive cycling experts to give advice; mechanics to troubleshoot issues and amazing volunteers to support you.
URL:https://oxfordcityac.com/event/cyclability-oxford-69/
LOCATION:Horspath Athletics Track\, Horspath Athletics Track\, Oxford\, Oxfordshire\, OX4 2RR\, United Kingdom
CATEGORIES:External Booking
END:VEVENT
BEGIN:VEVENT
DTSTART;TZID=Europe/London:20260623T093000
DTEND;TZID=Europe/London:20260623T120000
DTSTAMP:20260422T230944
CREATED:20260131T103346Z
LAST-MODIFIED:20260320T144306Z
UID:8841-1782207000-1782216000@oxfordcityac.com
SUMMARY:CyclAbility - Oxford
DESCRIPTION:We provide inclusive\, adult (16+) cycling facilities in a safe and supportive environment in Oxford. We have qualified cycling instructors to help you get started; adaptive cycling experts to give advice; mechanics to troubleshoot issues and amazing volunteers to support you.
URL:https://oxfordcityac.com/event/cyclability-oxford-26/
LOCATION:Horspath Athletics Track\, Horspath Athletics Track\, Oxford\, Oxfordshire\, OX4 2RR\, United Kingdom
CATEGORIES:External Booking
END:VEVENT
BEGIN:VEVENT
DTSTART;TZID=Europe/London:20260624T120000
DTEND;TZID=Europe/London:20260624T160000
DTSTAMP:20260422T230944
CREATED:20251219T135954Z
LAST-MODIFIED:20260131T104818Z
UID:8497-1782302400-1782316800@oxfordcityac.com
SUMMARY:Oxfordshire Schools Athletics Association - WOSSP Athletics match
DESCRIPTION:
URL:https://oxfordcityac.com/event/oxfordshire-schools-athletics-association-wossp-athletics-match/
LOCATION:Horspath Athletics Track\, Horspath Athletics Track\, Oxford\, Oxfordshire\, OX4 2RR\, United Kingdom
CATEGORIES:External Booking
END:VEVENT
BEGIN:VEVENT
DTSTART;TZID=Europe/London:20260625T103000
DTEND;TZID=Europe/London:20260625T170000
DTSTAMP:20260422T230944
CREATED:20260220T151807Z
LAST-MODIFIED:20260220T151807Z
UID:9186-1782383400-1782406800@oxfordcityac.com
SUMMARY:St Edward's School
DESCRIPTION:
URL:https://oxfordcityac.com/event/st-edwards-school/
LOCATION:Horspath Athletics Track\, Horspath Athletics Track\, Oxford\, Oxfordshire\, OX4 2RR\, United Kingdom
CATEGORIES:External Booking
END:VEVENT
BEGIN:VEVENT
DTSTART;TZID=Europe/London:20260626T093000
DTEND;TZID=Europe/London:20260626T133000
DTSTAMP:20260422T230944
CREATED:20260131T104019Z
LAST-MODIFIED:20260320T144306Z
UID:8888-1782466200-1782480600@oxfordcityac.com
SUMMARY:CyclAbility - Oxford
DESCRIPTION:We provide inclusive\, adult (16+) cycling facilities in a safe and supportive environment in Oxford. We have qualified cycling instructors to help you get started; adaptive cycling experts to give advice; mechanics to troubleshoot issues and amazing volunteers to support you.
URL:https://oxfordcityac.com/event/cyclability-oxford-70/
LOCATION:Horspath Athletics Track\, Horspath Athletics Track\, Oxford\, Oxfordshire\, OX4 2RR\, United Kingdom
CATEGORIES:External Booking
END:VEVENT
BEGIN:VEVENT
DTSTART;TZID=Europe/London:20260627T100000
DTEND;TZID=Europe/London:20260627T170000
DTSTAMP:20260422T230944
CREATED:20251219T135954Z
LAST-MODIFIED:20260131T104808Z
UID:8498-1782554400-1782579600@oxfordcityac.com
SUMMARY:Oruma Oxford
DESCRIPTION:
URL:https://oxfordcityac.com/event/oruma-oxforde/
LOCATION:Horspath Athletics Track\, Horspath Athletics Track\, Oxford\, Oxfordshire\, OX4 2RR\, United Kingdom
CATEGORIES:External Booking
END:VEVENT
BEGIN:VEVENT
DTSTART;TZID=Europe/London:20260630T093000
DTEND;TZID=Europe/London:20260630T120000
DTSTAMP:20260422T230944
CREATED:20260131T103346Z
LAST-MODIFIED:20260320T144311Z
UID:8842-1782811800-1782820800@oxfordcityac.com
SUMMARY:CyclAbility - Oxford
DESCRIPTION:We provide inclusive\, adult (16+) cycling facilities in a safe and supportive environment in Oxford. We have qualified cycling instructors to help you get started; adaptive cycling experts to give advice; mechanics to troubleshoot issues and amazing volunteers to support you.
URL:https://oxfordcityac.com/event/cyclability-oxford-27/
LOCATION:Horspath Athletics Track\, Horspath Athletics Track\, Oxford\, Oxfordshire\, OX4 2RR\, United Kingdom
CATEGORIES:External Booking
END:VEVENT
END:VCALENDAR