BEGIN:VCALENDAR
VERSION:2.0
PRODID:-//Oxford City Athletic Club - ECPv6.15.20//NONSGML v1.0//EN
CALSCALE:GREGORIAN
METHOD:PUBLISH
X-ORIGINAL-URL:https://oxfordcityac.com
X-WR-CALDESC:Events for Oxford City Athletic Club
REFRESH-INTERVAL;VALUE=DURATION:PT1H
X-Robots-Tag:noindex
X-PUBLISHED-TTL:PT1H
BEGIN:VTIMEZONE
TZID:Europe/London
BEGIN:DAYLIGHT
TZOFFSETFROM:+0000
TZOFFSETTO:+0100
TZNAME:BST
DTSTART:20250330T010000
END:DAYLIGHT
BEGIN:STANDARD
TZOFFSETFROM:+0100
TZOFFSETTO:+0000
TZNAME:GMT
DTSTART:20251026T010000
END:STANDARD
BEGIN:DAYLIGHT
TZOFFSETFROM:+0000
TZOFFSETTO:+0100
TZNAME:BST
DTSTART:20260329T010000
END:DAYLIGHT
BEGIN:STANDARD
TZOFFSETFROM:+0100
TZOFFSETTO:+0000
TZNAME:GMT
DTSTART:20261025T010000
END:STANDARD
BEGIN:DAYLIGHT
TZOFFSETFROM:+0000
TZOFFSETTO:+0100
TZNAME:BST
DTSTART:20270328T010000
END:DAYLIGHT
BEGIN:STANDARD
TZOFFSETFROM:+0100
TZOFFSETTO:+0000
TZNAME:GMT
DTSTART:20271031T010000
END:STANDARD
END:VTIMEZONE
BEGIN:VEVENT
DTSTART;TZID=Europe/London:20260427T180000
DTEND;TZID=Europe/London:20260427T210000
DTSTAMP:20260422T235228
CREATED:20260218T153548Z
LAST-MODIFIED:20260220T154904Z
UID:9160-1777312800-1777323600@oxfordcityac.com
SUMMARY:Southern Counties Veterans 2026 - Match 1
DESCRIPTION:Vets T&F timetable ’26
URL:https://oxfordcityac.com/event/southern-counties-veterans-2026-match-1/
LOCATION:Horspath Athletics Track\, Horspath Athletics Track\, Oxford\, Oxfordshire\, OX4 2RR\, United Kingdom
CATEGORIES:Club Match (Home)
END:VEVENT
BEGIN:VEVENT
DTSTART;TZID=Europe/London:20260621T110000
DTEND;TZID=Europe/London:20260621T173000
DTSTAMP:20260422T235228
CREATED:20251219T153452Z
LAST-MODIFIED:20260218T152956Z
UID:8573-1782039600-1782063000@oxfordcityac.com
SUMMARY:Southern Athletics League (Div 2 SW) - Match 2
DESCRIPTION:
URL:https://oxfordcityac.com/event/southern-athletics-league-div-2-sw-match-2/
LOCATION:Horspath Athletics Track\, Horspath Athletics Track\, Oxford\, Oxfordshire\, OX4 2RR\, United Kingdom
CATEGORIES:Club Match (Home)
END:VEVENT
BEGIN:VEVENT
DTSTART;TZID=Europe/London:20260712T080000
DTEND;TZID=Europe/London:20260712T180000
DTSTAMP:20260422T235228
CREATED:20251219T135954Z
LAST-MODIFIED:20260220T145915Z
UID:8500-1783843200-1783879200@oxfordcityac.com
SUMMARY:Wessex League - Match 4
DESCRIPTION:
URL:https://oxfordcityac.com/event/wessex-league-match-4/
LOCATION:Horspath Athletics Track\, Horspath Athletics Track\, Oxford\, Oxfordshire\, OX4 2RR\, United Kingdom
CATEGORIES:Club Match (Home)
END:VEVENT
BEGIN:VEVENT
DTSTART;TZID=Europe/London:20260801T100000
DTEND;TZID=Europe/London:20260801T170000
DTSTAMP:20260422T235228
CREATED:20260218T154941Z
LAST-MODIFIED:20260409T070953Z
UID:9173-1785578400-1785603600@oxfordcityac.com
SUMMARY:Youth Development League (UK YDL) 2026 - Lower Division Match 3
DESCRIPTION:
URL:https://oxfordcityac.com/event/youth-development-league-uk-ydl-2026-lower-division-match-3/
LOCATION:Horspath Athletics Track\, Horspath Athletics Track\, Oxford\, Oxfordshire\, OX4 2RR\, United Kingdom
CATEGORIES:Club Match (Home)
END:VEVENT
END:VCALENDAR