BEGIN:VCALENDAR
VERSION:2.0
PRODID:-//Oxford City Athletic Club - ECPv6.15.20//NONSGML v1.0//EN
CALSCALE:GREGORIAN
METHOD:PUBLISH
X-WR-CALNAME:Oxford City Athletic Club
X-ORIGINAL-URL:https://oxfordcityac.com
X-WR-CALDESC:Events for Oxford City Athletic Club
REFRESH-INTERVAL;VALUE=DURATION:PT1H
X-Robots-Tag:noindex
X-PUBLISHED-TTL:PT1H
BEGIN:VTIMEZONE
TZID:Europe/London
BEGIN:DAYLIGHT
TZOFFSETFROM:+0000
TZOFFSETTO:+0100
TZNAME:BST
DTSTART:20250330T010000
END:DAYLIGHT
BEGIN:STANDARD
TZOFFSETFROM:+0100
TZOFFSETTO:+0000
TZNAME:GMT
DTSTART:20251026T010000
END:STANDARD
BEGIN:DAYLIGHT
TZOFFSETFROM:+0000
TZOFFSETTO:+0100
TZNAME:BST
DTSTART:20260329T010000
END:DAYLIGHT
BEGIN:STANDARD
TZOFFSETFROM:+0100
TZOFFSETTO:+0000
TZNAME:GMT
DTSTART:20261025T010000
END:STANDARD
BEGIN:DAYLIGHT
TZOFFSETFROM:+0000
TZOFFSETTO:+0100
TZNAME:BST
DTSTART:20270328T010000
END:DAYLIGHT
BEGIN:STANDARD
TZOFFSETFROM:+0100
TZOFFSETTO:+0000
TZNAME:GMT
DTSTART:20271031T010000
END:STANDARD
END:VTIMEZONE
BEGIN:VEVENT
DTSTART;VALUE=DATE:20260808
DTEND;VALUE=DATE:20260809
DTSTAMP:20260420T011430
CREATED:20251219T140024Z
LAST-MODIFIED:20260131T104848Z
UID:8509-1786147200-1786233599@oxfordcityac.com
SUMMARY:Southern Athletics League (Div 2 SW) - Match 4
DESCRIPTION:
URL:https://oxfordcityac.com/event/southern-athletics-league-div-2-sw-2/
LOCATION:Palmer Park\, Reading\, Palmer Park Leisure Centre & Stadium\, Wokingham Road\, Reading\, RG6 1LF\, United Kingdom
CATEGORIES:Club Match (Away)
END:VEVENT
BEGIN:VEVENT
DTSTART;VALUE=DATE:20260816
DTEND;VALUE=DATE:20260817
DTSTAMP:20260420T011430
CREATED:20251219T140039Z
LAST-MODIFIED:20260220T153932Z
UID:8510-1786838400-1786924799@oxfordcityac.com
SUMMARY:Oxfordshire Track and Field League - Match 2
DESCRIPTION:The Oxfordshire Track and Field League is a development league founded to give young athletes in Oxfordshire the opportunity to become involved in competitive athletics from the age of 8 upwards. The league offers competitions for QuadKids (Under 9 and Under 11)\, as well as Under 13\, Under 15 and Under 17 athletes. There are currently nine clubs competing in the league.
URL:https://oxfordcityac.com/event/oxfordshire-track-and-field-league-match-2-2/
LOCATION:North Oxfordshire Academy\, Banbury\, Drayton Road\, Banbury\, OX16 0UD\, United Kingdom
CATEGORIES:Club Match (Away)
END:VEVENT
END:VCALENDAR