BEGIN:VCALENDAR
VERSION:2.0
PRODID:-//Oxford City Athletic Club - ECPv6.15.20//NONSGML v1.0//EN
CALSCALE:GREGORIAN
METHOD:PUBLISH
X-ORIGINAL-URL:https://oxfordcityac.com
X-WR-CALDESC:Events for Oxford City Athletic Club
REFRESH-INTERVAL;VALUE=DURATION:PT1H
X-Robots-Tag:noindex
X-PUBLISHED-TTL:PT1H
BEGIN:VTIMEZONE
TZID:Europe/London
BEGIN:DAYLIGHT
TZOFFSETFROM:+0000
TZOFFSETTO:+0100
TZNAME:BST
DTSTART:20250330T010000
END:DAYLIGHT
BEGIN:STANDARD
TZOFFSETFROM:+0100
TZOFFSETTO:+0000
TZNAME:GMT
DTSTART:20251026T010000
END:STANDARD
BEGIN:DAYLIGHT
TZOFFSETFROM:+0000
TZOFFSETTO:+0100
TZNAME:BST
DTSTART:20260329T010000
END:DAYLIGHT
BEGIN:STANDARD
TZOFFSETFROM:+0100
TZOFFSETTO:+0000
TZNAME:GMT
DTSTART:20261025T010000
END:STANDARD
BEGIN:DAYLIGHT
TZOFFSETFROM:+0000
TZOFFSETTO:+0100
TZNAME:BST
DTSTART:20270328T010000
END:DAYLIGHT
BEGIN:STANDARD
TZOFFSETFROM:+0100
TZOFFSETTO:+0000
TZNAME:GMT
DTSTART:20271031T010000
END:STANDARD
END:VTIMEZONE
BEGIN:VEVENT
DTSTART;TZID=Europe/London:20260607T090000
DTEND;TZID=Europe/London:20260607T190000
DTSTAMP:20260419T172003
CREATED:20251219T145919Z
LAST-MODIFIED:20260220T151609Z
UID:8543-1780822800-1780858800@oxfordcityac.com
SUMMARY:Wessex League - Match 2
DESCRIPTION:
URL:https://oxfordcityac.com/event/wessex-league-match-2/
LOCATION:Swindon Harriers AC Track\, Swindon Harriers Athletics Club\, Foundation Park\, County Ground Lane\, Swindon\, SN1 2FD.\, United Kingdom
CATEGORIES:Club Match (Away)
END:VEVENT
BEGIN:VEVENT
DTSTART;TZID=Europe/London:20260618T183000
DTEND;TZID=Europe/London:20260618T210000
DTSTAMP:20260419T172003
CREATED:20260218T153803Z
LAST-MODIFIED:20260220T155001Z
UID:9165-1781807400-1781816400@oxfordcityac.com
SUMMARY:Southern Counties Veterans 2026 - Match 3
DESCRIPTION:Vets T&F timetable ’26
URL:https://oxfordcityac.com/event/southern-counties-veterans-2026-match-3/
LOCATION:Tilsley Park\, Abingdon\, Dunmore Road\, Abingdon\, OX14 1PU\, United Kingdom
CATEGORIES:Club Match (Away)
END:VEVENT
END:VCALENDAR