BEGIN:VCALENDAR
VERSION:2.0
PRODID:-//Oxford City Athletic Club - ECPv6.15.20//NONSGML v1.0//EN
CALSCALE:GREGORIAN
METHOD:PUBLISH
X-ORIGINAL-URL:https://oxfordcityac.com
X-WR-CALDESC:Events for Oxford City Athletic Club
REFRESH-INTERVAL;VALUE=DURATION:PT1H
X-Robots-Tag:noindex
X-PUBLISHED-TTL:PT1H
BEGIN:VTIMEZONE
TZID:Europe/London
BEGIN:DAYLIGHT
TZOFFSETFROM:+0000
TZOFFSETTO:+0100
TZNAME:BST
DTSTART:20240331T010000
END:DAYLIGHT
BEGIN:STANDARD
TZOFFSETFROM:+0100
TZOFFSETTO:+0000
TZNAME:GMT
DTSTART:20241027T010000
END:STANDARD
BEGIN:DAYLIGHT
TZOFFSETFROM:+0000
TZOFFSETTO:+0100
TZNAME:BST
DTSTART:20250330T010000
END:DAYLIGHT
BEGIN:STANDARD
TZOFFSETFROM:+0100
TZOFFSETTO:+0000
TZNAME:GMT
DTSTART:20251026T010000
END:STANDARD
BEGIN:DAYLIGHT
TZOFFSETFROM:+0000
TZOFFSETTO:+0100
TZNAME:BST
DTSTART:20260329T010000
END:DAYLIGHT
BEGIN:STANDARD
TZOFFSETFROM:+0100
TZOFFSETTO:+0000
TZNAME:GMT
DTSTART:20261025T010000
END:STANDARD
END:VTIMEZONE
BEGIN:VEVENT
DTSTART;VALUE=DATE:20251213
DTEND;VALUE=DATE:20251214
DTSTAMP:20260423T022112
CREATED:20251129T142017Z
LAST-MODIFIED:20251212T144406Z
UID:8351-1765584000-1765670399@oxfordcityac.com
SUMMARY:Oxfordshire Cross Country League - Match 2
DESCRIPTION:Round 2: Horspath  \n\n A big thanks to Oxford City AC who are stepping in to host Round 2 this year at short notice. Here are the reminders for this round: \n\n\n\nParking is at BMW Mini (only officials & disabled athletes can park at the track)\n\n\nTents can be dropped at the track\n\n\nPortable toilets will be between club tents & the start/finish\n\n\nPlease support the clubhouse cafe (no spikes inside)\n\n\n\nAll the details for Round 2 can be found here: https://oxonxc.org.uk/events/index.php?viewevent=1872
URL:https://oxfordcityac.com/event/oxfordshire-cross-country-league-match-2/
LOCATION:TBC\, United Kingdom
CATEGORIES:Cross Country (Home)
END:VEVENT
END:VCALENDAR